BEGIN:VCALENDAR
VERSION:2.0
PRODID:-//Discover Frome - ECPv4.6.26//NONSGML v1.0//EN
CALSCALE:GREGORIAN
METHOD:PUBLISH
X-WR-CALNAME:Discover Frome
X-ORIGINAL-URL:https://archive.discoverfrome.co.uk
X-WR-CALDESC:Events for Discover Frome
BEGIN:VEVENT
DTSTART;TZID=Europe/London:20231116T190000
DTEND;TZID=Europe/London:20231116T230000
DTSTAMP:20260419T210244
CREATED:20231031T114632Z
LAST-MODIFIED:20231031T114632Z
UID:63315-1700161200-1700175600@archive.discoverfrome.co.uk
SUMMARY:Luke De-Sciscio
DESCRIPTION:Night River Presents: Luke De-Sciscio \nLuke De-Sciscio is a greatly admired UK singer-songwriter.  Philosophical\, witty and unremittingly honest\, Luke’s songs ruminate with a prophetic abundance that eludes to a value beyond the musical. \nEschewing the fervent journalism that belies his peers\, Luke\, draws from lyricism that tends less to the political and more to the communal human spirit.  Sonically intimate\, with respect to the tradition of English folk music\, his songs are at once grounded in the Earth and simultaneously spanning the ethereal chasm. \nIn 2020\, Luke De-Sciscio released a season of three records; Good Bye Folk Boy\, Eucharist and Sublime\, the 33 tracks of which mark a voyage from the depths of chaos to the enlightening vantage of love. \nThe success of this body of work propelled Luke to the international stage and solidified his claim amongst the pantheon of great British folk singers. \nDon’t miss your chance to see this songwriting legend in the making in the most intimate\, pin drop spot in Frome. Only 30 seats available\, book yours today. \n
URL:https://archive.discoverfrome.co.uk/event/luke-de-sciscio/
LOCATION:Hydeaway\, Search for the Eagle\, Frome\, BA11 1DR\, United Kingdom
CATEGORIES:Concert,Discover Frome,Live Band,Music
ATTACH;FMTTYPE=image/jpeg:https://archive.discoverfrome.co.uk/wp-content/uploads/2023/10/luke-desciscio.jpg
ORGANIZER;CN="Night%20River":MAILTO:nightriverpresents@gmail.com
END:VEVENT
END:VCALENDAR