BEGIN:VCALENDAR
VERSION:2.0
PRODID:-//Discover Frome - ECPv4.6.26//NONSGML v1.0//EN
CALSCALE:GREGORIAN
METHOD:PUBLISH
X-WR-CALNAME:Discover Frome
X-ORIGINAL-URL:https://archive.discoverfrome.co.uk
X-WR-CALDESC:Events for Discover Frome
BEGIN:VEVENT
DTSTART;TZID=Europe/London:20230819T190000
DTEND;TZID=Europe/London:20230819T233000
DTSTAMP:20260420T084733
CREATED:20230726T154459Z
LAST-MODIFIED:20230727T142307Z
UID:61927-1692471600-1692487800@archive.discoverfrome.co.uk
SUMMARY:Maet Live & The Never Neverland Express
DESCRIPTION:The World’s premier Meatloaf tribute show\, featuring the Ultimate ‘Dead Ringer’ to Meatloaf Craig Halford as seen on ITV’s ‘Stars in their eyes’ and Channel 4’s ‘The Last Leg’. \nExperience all the hits from what is one of the best-selling artists of all time\, culminating over 80 million album sales\, a grammy award and the best rock and roll love anthems ever written. \nI’D Do Anything for Love\, Bat Out of Hell\, Two Out of Three Ain’t Bad\, You Took the Words Right Out of My Mouth\, Rock And Roll Dreams Come Through\, Paradise by the Dashboard Light\, Dead Ringer for Love and many many more. \n
URL:https://archive.discoverfrome.co.uk/event/maet-live-the-never-neverland-express/
LOCATION:Cheese and Grain\, Market Yard\, Frome\, BA11 1BE
GEO:51.2318708;-2.3202807
X-APPLE-STRUCTURED-LOCATION;VALUE=URI;X-ADDRESS=Cheese and Grain Market Yard Frome BA11 1BE;X-APPLE-RADIUS=500;X-TITLE=Market Yard:geo:-2.3202807,51.2318708
CATEGORIES:Discover Frome,Live Band,Music
ATTACH;FMTTYPE=image/jpeg:https://archive.discoverfrome.co.uk/wp-content/uploads/2023/07/maet-live.jpg
END:VEVENT
END:VCALENDAR