BEGIN:VCALENDAR
VERSION:2.0
PRODID:-//Discover Frome - ECPv4.6.26//NONSGML v1.0//EN
CALSCALE:GREGORIAN
METHOD:PUBLISH
X-WR-CALNAME:Discover Frome
X-ORIGINAL-URL:https://archive.discoverfrome.co.uk
X-WR-CALDESC:Events for Discover Frome
BEGIN:VEVENT
DTSTART;TZID=Europe/London:20241025T190000
DTEND;TZID=Europe/London:20241025T230000
DTSTAMP:20260421T171456
CREATED:20240814T131021Z
LAST-MODIFIED:20240814T131021Z
UID:71615-1729882800-1729897200@archive.discoverfrome.co.uk
SUMMARY:Martin Fry - ABC
DESCRIPTION:\nFlamboyant and charismatic\, Martin Fry enjoyed worldwide success as the lead singer of 80s New Romantics ABC. Now he’s hitting the road this autumn\, for his most intimate nationwide tour yet.\n\n\n\n\n\nPerforming the hit songs of his career from Poison Arrow to The Look Of Love\, and from Be Near Me\, to When Smokey Sings\, Martin will also share his personal stories of more than four decades in the music industry.\n\n\n\nFormed in Sheffield in 1980\, ABC redefined glamour and cool with their distinctive debut album The Lexicon of Love\, which fizzed with bright ideas\, and achieved TransAtlantic success.\n\n\n\nMartin harked back to a golden era of luxe\, as though Cole Porter had been re-imagined among the narrow streets of Sheffield.\n\n\nLittle wonder his sleek\, opulent\, and beautiful debut album retains the affection of listeners four decades on. With good reason\, it has stood the test of time.\n\n\n\nABC – An Intimate Evening With Martin Fry follows a sold-out tour of the UK\, which included three sell-out nights at London Palladium\, and coincides with the publication of his autobiography – That’s the look\, that’s the look… The Look of Love.\n\n\n\nMartin says: “I have been very lucky in my career to have played venues around the world from massive arenas in the States to Sheffield Town Hall in my hometown\, where we marked 40 years of The Lexicon of Love. However\, this tour really is something a bit different; an opportunity for stripped-back music and conversation with my fans. It will be really special\, I can’t wait.”\n\n\nThe meet and greet ticket package comes with a pre-show meet’n’greet with Martin Fry\, including a photograph and autograph\, with best seats\, and an exclusive ABC goody bag. Please arrive at 17.30 for a 17.45 start and 18.45 conclusion. Doors will open at 19.00 and the show starts at 19.30.\n\nThe VIP package comes with an exclusive ABC goody bag and seats at the front of the venue.\n
URL:https://archive.discoverfrome.co.uk/event/martin-fry-abc/
LOCATION:Cheese and Grain\, Market Yard\, Frome\, BA11 1BE
GEO:51.2318708;-2.3202807
X-APPLE-STRUCTURED-LOCATION;VALUE=URI;X-ADDRESS=Cheese and Grain Market Yard Frome BA11 1BE;X-APPLE-RADIUS=500;X-TITLE=Market Yard:geo:-2.3202807,51.2318708
CATEGORIES:Concert,Discover Frome,Live Band,Music,Nightlife,Talk
ATTACH;FMTTYPE=image/jpeg:https://archive.discoverfrome.co.uk/wp-content/uploads/2024/08/download-2.jpg
END:VEVENT
END:VCALENDAR