BEGIN:VCALENDAR
VERSION:2.0
PRODID:-//Discover Frome - ECPv4.6.26//NONSGML v1.0//EN
CALSCALE:GREGORIAN
METHOD:PUBLISH
X-WR-CALNAME:Discover Frome
X-ORIGINAL-URL:https://archive.discoverfrome.co.uk
X-WR-CALDESC:Events for Discover Frome
BEGIN:VEVENT
DTSTART;TZID=Europe/London:20230712T193000
DTEND;TZID=Europe/London:20230712T223000
DTSTAMP:20260419T170122
CREATED:20230525T174357Z
LAST-MODIFIED:20230525T174357Z
UID:61098-1689190200-1689201000@archive.discoverfrome.co.uk
SUMMARY:Mãsa
DESCRIPTION:The incredible alt folk sister duo Mãsa come to Bar Lotte again after three recent standout shows. \nMāsa channel the essence of folk narrative into contemporary songwriting elevated by an array of instruments\, soundscapes\, and their sister harmonies. \n
URL:https://archive.discoverfrome.co.uk/event/masa-2/
LOCATION:Bar Lotte\, 6a Badcox\, Frome\, Somerset\, BA11 1DB\, United Kingdom
CATEGORIES:Discover Frome,Frome Festival,Music
ATTACH;FMTTYPE=image/jpeg:https://archive.discoverfrome.co.uk/wp-content/uploads/2023/05/Masa.jpg
ORGANIZER;CN="Frome%20Festival":MAILTO:office@fromefestival.co.uk
END:VEVENT
END:VCALENDAR