BEGIN:VCALENDAR
VERSION:2.0
PRODID:-//Discover Frome - ECPv4.6.26//NONSGML v1.0//EN
CALSCALE:GREGORIAN
METHOD:PUBLISH
X-WR-CALNAME:Discover Frome
X-ORIGINAL-URL:https://archive.discoverfrome.co.uk
X-WR-CALDESC:Events for Discover Frome
BEGIN:VEVENT
DTSTART;TZID=Europe/London:20250711T193000
DTEND;TZID=Europe/London:20250711T210000
DTSTAMP:20260421T042059
CREATED:20250528T125428Z
LAST-MODIFIED:20250528T125428Z
UID:80686-1752262200-1752267600@archive.discoverfrome.co.uk
SUMMARY:Meditation - Searching For The Real You
DESCRIPTION:This meditation class will be hosted by Dada Jyotirupananda\, a yogic monk\, practicing and teaching a system of yogic meditation from an ancient Indian tradition. He is a disciple of Shrii Shrii Anandamurti (1921-1990)\, a modern yogic master. \n
URL:https://archive.discoverfrome.co.uk/event/meditation-searching-for-the-real-you/
LOCATION:RISE\, Whittox Lane\, Frome\, BA11 3BY
CATEGORIES:Discover Frome,Frome Festival,Health & Wellbeing,spirituality
ATTACH;FMTTYPE=image/png:https://archive.discoverfrome.co.uk/wp-content/uploads/2025/05/meditation-class.png
ORGANIZER;CN="Frome%20Festival":MAILTO:office@fromefestival.co.uk
END:VEVENT
END:VCALENDAR