BEGIN:VCALENDAR
VERSION:2.0
PRODID:-//Discover Frome - ECPv4.6.26//NONSGML v1.0//EN
CALSCALE:GREGORIAN
METHOD:PUBLISH
X-WR-CALNAME:Discover Frome
X-ORIGINAL-URL:https://archive.discoverfrome.co.uk
X-WR-CALDESC:Events for Discover Frome
BEGIN:VEVENT
DTSTART;TZID=Europe/London:20251108T150000
DTEND;TZID=Europe/London:20251108T170000
DTSTAMP:20260420T182417
CREATED:20250708T110941Z
LAST-MODIFIED:20250708T113622Z
UID:82521-1762614000-1762621200@archive.discoverfrome.co.uk
SUMMARY:Stolen Moments - Meeting at Crossroads
DESCRIPTION:Martin Kolarides (guitar) & Pete Maxfield (double bass). The intersection between Celtic music\, bluegrass\, and jazz. \nWith Keith Harrison-Broninski (piano). \nDo you ever feel that even your weekends are too busy and demanding? That you need time out\, just to relax? Stolen Moments is a new kind of jazz event. A late Saturday afternoon interlude in the liminal space between day and evening. True down time\, in a beautiful church\, to do nothing but enjoy exquisite modern jazz and delicious cakes. \nTickets are not necessary and entry is free. Just come along to Christ Church\, Frome from 3-5pm . The concerts are informal occasions and you can drop in and out. Well behaved children and dogs are welcome. Refreshments are available as well as cushions for the pews! \nGenerally\, if you would like to stay up to date with Frome Jazz Club events including the “Stolen Moments” concert series\, visit bit.ly/fjc-email where you can join the emailing list. \n
URL:https://archive.discoverfrome.co.uk/event/meeting-at-crossroads/
LOCATION:Christ Church\, Christchurch Street West\, Frome\, BA11 1EH
GEO:51.2292735;-2.3282901
X-APPLE-STRUCTURED-LOCATION;VALUE=URI;X-ADDRESS=Christ Church Christchurch Street West Frome BA11 1EH;X-APPLE-RADIUS=500;X-TITLE=Christchurch Street West:geo:-2.3282901,51.2292735
CATEGORIES:Live Band
ATTACH;FMTTYPE=image/png:https://archive.discoverfrome.co.uk/wp-content/uploads/2025/07/20251108-Meeting-at-Crossroads-smaller.png
ORGANIZER;CN="Frome%20Jazz%20Club":MAILTO:keith.harrisonbroninski@gmail.com
END:VEVENT
END:VCALENDAR