BEGIN:VCALENDAR
VERSION:2.0
PRODID:-//Discover Frome - ECPv4.6.26//NONSGML v1.0//EN
CALSCALE:GREGORIAN
METHOD:PUBLISH
X-WR-CALNAME:Discover Frome
X-ORIGINAL-URL:https://archive.discoverfrome.co.uk
X-WR-CALDESC:Events for Discover Frome
BEGIN:VEVENT
DTSTART;TZID=Europe/London:20250731T090000
DTEND;TZID=Europe/London:20250801T150000
DTSTAMP:20260420T134112
CREATED:20250703T114553Z
LAST-MODIFIED:20250703T114553Z
UID:82450-1753952400-1754060400@archive.discoverfrome.co.uk
SUMMARY:Mendip Performing Arts Academy Summer Holiday Workshops
DESCRIPTION:We are delighted to bring you our Holiday workshops – back by popular demand. \n​All workshops are at the Evercreech Village Hall. \n​Spaces are limited for both workshops and a space in your chosen workshop is not reserved until it has been booked and paid for. \n​Please email – Mendipperformingarts@gmail.com with any enquiries\, and please use the links below to book. \n​Approximately one week before your workshop you will receive an email with all the information you will need to know. \n\n31st July\, 9am – 12pm: Minis Workshop – for ages 6 -8\n1st August\, 9am – 3pm: Midis Workshop – for ages 9 – 15\n\n
URL:https://archive.discoverfrome.co.uk/event/mendip-performing-arts-academy-summer-holiday-workshops/
LOCATION:Evercreech Village Hall\, Victoria Lane\, Evercreech\, Shepton Mallet\, Somerset\, BA4 6JP\, United Kingdom
CATEGORIES:Arts,Children,Dance,Discover Frome,Half Term & Holidays,kids singing,Music,Musical,Summer Holiday,Theatre,Workshop
ATTACH;FMTTYPE=image/jpeg:https://archive.discoverfrome.co.uk/wp-content/uploads/2025/07/mendip-performing-arts-academy.jpg
ORGANIZER;CN="Mendip%20Performing%20Arts%20Academy":MAILTO:mendipperformingarts@gmail.com
END:VEVENT
END:VCALENDAR