BEGIN:VCALENDAR
VERSION:2.0
PRODID:-//Discover Frome - ECPv4.6.26//NONSGML v1.0//EN
CALSCALE:GREGORIAN
METHOD:PUBLISH
X-WR-CALNAME:Discover Frome
X-ORIGINAL-URL:https://archive.discoverfrome.co.uk
X-WR-CALDESC:Events for Discover Frome
BEGIN:VEVENT
DTSTART;TZID=Europe/London:20230519T140000
DTEND;TZID=Europe/London:20230519T153000
DTSTAMP:20260419T203150
CREATED:20230504T121209Z
LAST-MODIFIED:20230504T121209Z
UID:59958-1684504800-1684510200@archive.discoverfrome.co.uk
SUMMARY:Museumology 4: Feeling Dressed
DESCRIPTION:Museumology is a series of workshops within Frome Local History Festival (12th-20th May) that explores different aspects of the collections of Frome Museum which are not usually on display. \nIn this workshop\, join Dr Lucy Gundry for a round table conversation to look through ‘our eyes only’ at pieces of dress from the archives. \nWe will find words to imagine what it would have felt like to touch and wear these items dressed as a man or woman in the everyday life of those who would have worked in the cloth trade of Frome. \nAdults 16+ \n
URL:https://archive.discoverfrome.co.uk/event/museumology-4-feeling-dressed/
CATEGORIES:Discover Frome,Frome Local History Festival,History & Heritage,Workshop
ATTACH;FMTTYPE=image/jpeg:https://archive.discoverfrome.co.uk/wp-content/uploads/2023/05/antique-clothing.jpg
END:VEVENT
END:VCALENDAR