BEGIN:VCALENDAR
VERSION:2.0
PRODID:-//Discover Frome - ECPv4.6.26//NONSGML v1.0//EN
CALSCALE:GREGORIAN
METHOD:PUBLISH
X-WR-CALNAME:Discover Frome
X-ORIGINAL-URL:https://archive.discoverfrome.co.uk
X-WR-CALDESC:Events for Discover Frome
BEGIN:VEVENT
DTSTART;TZID=Europe/London:20240925T190000
DTEND;TZID=Europe/London:20240925T210000
DTSTAMP:20260420T065706
CREATED:20240917T124632Z
LAST-MODIFIED:20240917T124632Z
UID:72087-1727290800-1727298000@archive.discoverfrome.co.uk
SUMMARY:National Theatre Live: Prima Facie - Encore
DESCRIPTION:\nEncore screening of performance captured live from the Harold Pinter Theatre in London’s West End in 2022. \n\nJodie Comer (Killing Eve) makes her West End debut in the UK premiere of Suzie Miller’s award-winning play. \nTessa is a young\, brilliant barrister. She has worked her way up from working class origins to be at the top of her game; defending; cross examining and winning. An unexpected event forces her to confront the lines where the patriarchal power of the law\, burden of proof and morals diverge. \nPrima Facie takes us to the heart of where emotion and experience collide with the rules of the game. \nJustin Martin directs this solo tour de force\, in an encore screening of the play captured live from the intimate Harold Pinter Theatre in London’s West End. \nA production from Empire Street Productions. \n
URL:https://archive.discoverfrome.co.uk/event/national-theatre-live-prima-facie-encore/
LOCATION:Merlin Theatre\, Bath Road\, Frome\, BA11 2HG 
GEO:51.2412644;-2.3118242
X-APPLE-STRUCTURED-LOCATION;VALUE=URI;X-ADDRESS=Merlin Theatre Bath Road Frome BA11 2HG;X-APPLE-RADIUS=500;X-TITLE=Bath Road:geo:-2.3118242,51.2412644
CATEGORIES:Arts,Discover Frome,Film,Theatre
ATTACH;FMTTYPE=image/jpeg:https://archive.discoverfrome.co.uk/wp-content/uploads/2024/09/Prima_Facie_l_event.jpg
END:VEVENT
END:VCALENDAR