BEGIN:VCALENDAR
VERSION:2.0
PRODID:-//Discover Frome - ECPv4.6.26//NONSGML v1.0//EN
CALSCALE:GREGORIAN
METHOD:PUBLISH
X-WR-CALNAME:Discover Frome
X-ORIGINAL-URL:https://archive.discoverfrome.co.uk
X-WR-CALDESC:Events for Discover Frome
BEGIN:VEVENT
DTSTART;TZID=Europe/London:20240712T193000
DTEND;TZID=Europe/London:20240712T230000
DTSTAMP:20260419T170230
CREATED:20240618T134214Z
LAST-MODIFIED:20240618T134214Z
UID:70544-1720812600-1720825200@archive.discoverfrome.co.uk
SUMMARY:NED CAN'T CRY
DESCRIPTION:Ned Can’t Cry bring their own brand of roots and country to Bar Lotte for an evening of Americana-tinged entertainment. Expect a harmonious smattering of fresh original material along with an expertly curated and arranged collection of classic tunes. \n
URL:https://archive.discoverfrome.co.uk/event/ned-cant-cry/
LOCATION:Bar Lotte\, 6a Badcox\, Frome\, Somerset\, BA11 1DB\, United Kingdom
CATEGORIES:Discover Frome,Frome Festival,Music
ATTACH;FMTTYPE=image/png:https://archive.discoverfrome.co.uk/wp-content/uploads/2024/06/Screenshot-2024-03-10-at-22.04.18-e1710863442474.png
END:VEVENT
END:VCALENDAR