BEGIN:VCALENDAR
VERSION:2.0
PRODID:-//Discover Frome - ECPv4.6.26//NONSGML v1.0//EN
CALSCALE:GREGORIAN
METHOD:PUBLISH
X-WR-CALNAME:Discover Frome
X-ORIGINAL-URL:https://archive.discoverfrome.co.uk
X-WR-CALDESC:Events for Discover Frome
BEGIN:VEVENT
DTSTART;TZID=Europe/London:20230712T193000
DTEND;TZID=Europe/London:20230712T213000
DTSTAMP:20260419T170122
CREATED:20230525T174711Z
LAST-MODIFIED:20230525T174711Z
UID:61102-1689190200-1689197400@archive.discoverfrome.co.uk
SUMMARY:Ninebarrow
DESCRIPTION:Ninebarrow\, a multi-award-winning folk duo\, combine breath taking vocal harmonies and melodies\, delivering songs that are inspired and rooted in the landscape and history of the British Isles. \nTheir latest album\, ‘A Pocket Full of Acorns’ was released in March2021 to wide-spread critical acclaim including coverage on BBC1 Countryfile and BBC Radio 4 Front Row. \n
URL:https://archive.discoverfrome.co.uk/event/ninebarrow/
LOCATION:St Leonards Church\, Marston Bigot\, BA11 5DE
CATEGORIES:Discover Frome,Frome Festival,Music
ATTACH;FMTTYPE=image/jpeg:https://archive.discoverfrome.co.uk/wp-content/uploads/2023/05/Ninebarrow.jpg
ORGANIZER;CN="Frome%20Festival":MAILTO:office@fromefestival.co.uk
END:VEVENT
END:VCALENDAR