BEGIN:VCALENDAR
VERSION:2.0
PRODID:-//Discover Frome - ECPv4.6.26//NONSGML v1.0//EN
CALSCALE:GREGORIAN
METHOD:PUBLISH
X-WR-CALNAME:Discover Frome
X-ORIGINAL-URL:https://archive.discoverfrome.co.uk
X-WR-CALDESC:Events for Discover Frome
BEGIN:VEVENT
DTSTART;TZID=Europe/London:20250726T100000
DTEND;TZID=Europe/London:20250726T170000
DTSTAMP:20260422T082209
CREATED:20250313T160354Z
LAST-MODIFIED:20250313T160354Z
UID:75454-1753524000-1753549200@archive.discoverfrome.co.uk
SUMMARY:Nunney Fayre Day
DESCRIPTION:Nunney Community Association presents Nunney Fayre Day 2025. \nOn 26th July\, 10am – 5pm in Nunney village. There will be stalls\, live music\, food and drink\, kids zone\, dog show and more. Free entry and parking is £5. \n
URL:https://archive.discoverfrome.co.uk/event/nunney-fayre-day-2/
LOCATION:Nunney
CATEGORIES:Children,Community,crafts,Discover Frome,Family,Food & Drink,Half Term & Holidays,Live Band,Market,Music,Shopping,Summer Holiday
ATTACH;FMTTYPE=image/jpeg:https://archive.discoverfrome.co.uk/wp-content/uploads/2025/03/nunney-fayre-e1750865742208.jpg
ORGANIZER;CN="Nunney%20Community%20Association":MAILTO:nunneyfayrenca@gmail.com
END:VEVENT
END:VCALENDAR