BEGIN:VCALENDAR
VERSION:2.0
PRODID:-//Discover Frome - ECPv4.6.26//NONSGML v1.0//EN
CALSCALE:GREGORIAN
METHOD:PUBLISH
X-WR-CALNAME:Discover Frome
X-ORIGINAL-URL:https://archive.discoverfrome.co.uk
X-WR-CALDESC:Events for Discover Frome
BEGIN:VEVENT
DTSTART;TZID=Europe/London:20230712T193000
DTEND;TZID=Europe/London:20230712T210000
DTSTAMP:20260419T154822
CREATED:20230525T173902Z
LAST-MODIFIED:20230525T173902Z
UID:61092-1689190200-1689195600@archive.discoverfrome.co.uk
SUMMARY:Of Earth and Light
DESCRIPTION:Three fathers in love with birds\, Bibles\, butterflies. Three daughters finding words to keep the past alive and to celebrate what they have learned of earth and heaven. \nJoin three award-winning poets as they share their new collections full of flight\, light\, mystery\, India\, England\, and the beauty of lost worlds. \n
URL:https://archive.discoverfrome.co.uk/event/of-earth-and-light/
LOCATION:Archangel\, 1 King Street\, Frome\, BA11 1BH
GEO:51.2311843;-2.3209068
X-APPLE-STRUCTURED-LOCATION;VALUE=URI;X-ADDRESS=Archangel 1 King Street Frome BA11 1BH;X-APPLE-RADIUS=500;X-TITLE=1 King Street:geo:-2.3209068,51.2311843
CATEGORIES:Discover Frome,Frome Festival,Spoken word
ATTACH;FMTTYPE=image/jpeg:https://archive.discoverfrome.co.uk/wp-content/uploads/2023/05/Poet.jpg
ORGANIZER;CN="Frome%20Festival":MAILTO:office@fromefestival.co.uk
END:VEVENT
END:VCALENDAR