BEGIN:VCALENDAR
VERSION:2.0
PRODID:-//Discover Frome - ECPv4.6.26//NONSGML v1.0//EN
CALSCALE:GREGORIAN
METHOD:PUBLISH
X-WR-CALNAME:Discover Frome
X-ORIGINAL-URL:https://archive.discoverfrome.co.uk
X-WR-CALDESC:Events for Discover Frome
BEGIN:VEVENT
DTSTART;TZID=Europe/London:20240225T160000
DTEND;TZID=Europe/London:20240225T180000
DTSTAMP:20260419T121020
CREATED:20240130T145620Z
LAST-MODIFIED:20240130T145620Z
UID:67298-1708876800-1708884000@archive.discoverfrome.co.uk
SUMMARY:Olivia Chaney
DESCRIPTION:A unique opportunity to catch Olivia at our intimate venue before her nationwide tour later in the year! \nBorn in Florence to a writer and painter-turned-academic\, Olivia Chaney grew up listening to everything from Prince to Henry Purcell. This eclectic mix of influences sparked a passion for song writing that she nurtured at Chetham’s School of Music and The Royal Academy. After showcasing at SXSW and a stint as lead singer for electronica outfit Zero 7\, Olivia signed with Nonesuch\, leading to collaborations with Kronos Quartet and a Grammy nomination for Offa Rex\, a collection of Fairport Convention-era classics made with The Decemberists. \nOlivia’s first solo album (The Longest River)\, produced by Leo Abrahams\, received rave reviews. Following this she recorded Shelter in NYC with genius producer-pianist Thomas Bartlett. These records established Olivia’s reputation as the author of an unmistakable brand of luscious and sophisticated music that explores inherited trauma\, the clash of tradition and modernity\, and the darkness and light of love. \nCircus of Desire\, released in March 2024\, is Olivia’s first full-length album since she fled the capital\, married her dream boy\, gave birth to two children\, and entered into the deeper mystery of things. Featuring an all-star line-up of friends old and new\, including Sam Amidon\, Nico Muhly and remixes by Dave Okumu\, Oliver Coates and Vessel\, Circus of Desire is Olivia set free. Catch these songs played live for the first time by Olivia. Expect boundary-testing song writing and an arresting performance by an artist at the peak of her powers. \n
URL:https://archive.discoverfrome.co.uk/event/olivia-chaney/
LOCATION:Cooper Hall\, Jack's Lane\, Frome\, BA11 2SR
GEO:51.2434727;-2.3295746
X-APPLE-STRUCTURED-LOCATION;VALUE=URI;X-ADDRESS=Cooper Hall Jack's Lane Frome BA11 2SR;X-APPLE-RADIUS=500;X-TITLE=Jack's Lane:geo:-2.3295746,51.2434727
CATEGORIES:Concert,Discover Frome,Music
ATTACH;FMTTYPE=image/jpeg:https://archive.discoverfrome.co.uk/wp-content/uploads/2024/01/olivia-chaney.jpg
END:VEVENT
END:VCALENDAR