BEGIN:VCALENDAR
VERSION:2.0
PRODID:-//Discover Frome - ECPv4.6.26//NONSGML v1.0//EN
CALSCALE:GREGORIAN
METHOD:PUBLISH
X-WR-CALNAME:Discover Frome
X-ORIGINAL-URL:https://archive.discoverfrome.co.uk
X-WR-CALDESC:Events for Discover Frome
BEGIN:VEVENT
DTSTART;TZID=Europe/London:20250712T140000
DTEND;TZID=Europe/London:20250712T153000
DTSTAMP:20260420T065436
CREATED:20250528T121946Z
LAST-MODIFIED:20250528T121946Z
UID:80656-1752328800-1752334200@archive.discoverfrome.co.uk
SUMMARY:One Million Tiny Plays About Britain
DESCRIPTION:Frome Drama presents a selection of Craig Taylor’s miniature plays – each a snapshot of life in twenty-first century Britain. Within these little worlds life is laugh-out-loud funny\, sometimes tender\, often eccentric\, occasionally tragic and strangely familiar. Eight actors take on forty-four roles in a rollercoaster ride. \n
URL:https://archive.discoverfrome.co.uk/event/one-million-tiny-plays-about-britain/
LOCATION:Assembly Rooms\, Christchurch Street West\, Frome\, BA11 1EB
GEO:51.2291809;-2.3240101
X-APPLE-STRUCTURED-LOCATION;VALUE=URI;X-ADDRESS=Assembly Rooms Christchurch Street West Frome BA11 1EB;X-APPLE-RADIUS=500;X-TITLE=Christchurch Street West:geo:-2.3240101,51.2291809
CATEGORIES:Arts,Comedy,Discover Frome,Frome Festival,Theatre
ATTACH;FMTTYPE=image/jpeg:https://archive.discoverfrome.co.uk/wp-content/uploads/2025/05/one-million-plays.jpeg
ORGANIZER;CN="Frome%20Festival":MAILTO:office@fromefestival.co.uk
END:VEVENT
END:VCALENDAR