BEGIN:VCALENDAR
VERSION:2.0
PRODID:-//Discover Frome - ECPv4.6.26//NONSGML v1.0//EN
CALSCALE:GREGORIAN
METHOD:PUBLISH
X-WR-CALNAME:Discover Frome
X-ORIGINAL-URL:https://archive.discoverfrome.co.uk
X-WR-CALDESC:Events for Discover Frome
BEGIN:VEVENT
DTSTART;TZID=Europe/London:20230611T120000
DTEND;TZID=Europe/London:20230611T150000
DTSTAMP:20260421T125111
CREATED:20230510T134517Z
LAST-MODIFIED:20230510T134517Z
UID:60187-1686484800-1686495600@archive.discoverfrome.co.uk
SUMMARY:Packsaddle Nature Watch
DESCRIPTION:Please come along and join in with our nature watch. \nLet’s see what birds\, insects\, flowers and fauna we can identify in the fields. \nVisitors are welcome to bring a picnic and enjoy the fields at their leisure. No need to book\, just turn up. \nA free event for all ages. \nPacksaddle Fields are located off Packsaddle Way. \nPart of Great Big Green Week 2023. \n
URL:https://archive.discoverfrome.co.uk/event/packsaddle-nature-watch/
LOCATION:Packsaddle Fields\, Packsaddle Way\, Frome\, BA11 2JU\, United Kingdom
CATEGORIES:Children,Discover Frome,Environment,Family,Great Big Green Week,Nature
ATTACH;FMTTYPE=image/jpeg:https://archive.discoverfrome.co.uk/wp-content/uploads/2023/05/Packsaddle-Fields.jpg
END:VEVENT
END:VCALENDAR