BEGIN:VCALENDAR
VERSION:2.0
PRODID:-//Discover Frome - ECPv4.6.26//NONSGML v1.0//EN
CALSCALE:GREGORIAN
METHOD:PUBLISH
X-WR-CALNAME:Discover Frome
X-ORIGINAL-URL:https://archive.discoverfrome.co.uk
X-WR-CALDESC:Events for Discover Frome
BEGIN:VEVENT
DTSTART;TZID=Europe/London:20230614T180000
DTEND;TZID=Europe/London:20230614T200000
DTSTAMP:20260421T142613
CREATED:20230602T092323Z
LAST-MODIFIED:20230606T131853Z
UID:61192-1686765600-1686772800@archive.discoverfrome.co.uk
SUMMARY:Peruvian Food Pop Up
DESCRIPTION:o know a country’s food is to know its culture and this could not be more true with Peruvian food. Filled with a variety of flavours and spices\, it does not disappoint\, especially when it has been cooked by Frome’s finest Peruvian chef\, Choco!\nEnjoy a rich three course where you can choose from one of three starter options\, a fish or meat main\, nicely finished with a delicious dessert to quench your sweet tooth.\nFood will be served in two sittings (late and early) as described below.\nEARLY SITTING – 6pm – 8pm\nLATE SITTING – 8pm – 10pm\nA pre-order selecting starter and main options is required including whether you will be attending a late or early sitting. \n
URL:https://archive.discoverfrome.co.uk/event/peruvian-food-pop-up/2023-06-14/
LOCATION:The Three Swans\, 16-17 King Street \, Frome\, BA11 1BH 
GEO:51.2304309;-2.3204732
X-APPLE-STRUCTURED-LOCATION;VALUE=URI;X-ADDRESS=The Three Swans 16-17 King Street  Frome BA11 1BH;X-APPLE-RADIUS=500;X-TITLE=16-17 King Street:geo:-2.3204732,51.2304309
CATEGORIES:Discover Frome,Food & Drink
ATTACH;FMTTYPE=application/pdf:https://archive.discoverfrome.co.uk/wp-content/uploads/2023/06/Peruvian-Food-Pop-Up-Frome.pdf
ORGANIZER;CN="Deiya":MAILTO:info@deiya.club
END:VEVENT
END:VCALENDAR