BEGIN:VCALENDAR
VERSION:2.0
PRODID:-//Discover Frome - ECPv4.6.26//NONSGML v1.0//EN
CALSCALE:GREGORIAN
METHOD:PUBLISH
X-WR-CALNAME:Discover Frome
X-ORIGINAL-URL:https://archive.discoverfrome.co.uk
X-WR-CALDESC:Events for Discover Frome
BEGIN:VEVENT
DTSTART;TZID=Europe/London:20230709T120000
DTEND;TZID=Europe/London:20230709T133000
DTSTAMP:20260419T160801
CREATED:20230525T105517Z
LAST-MODIFIED:20230525T110010Z
UID:60901-1688904000-1688909400@archive.discoverfrome.co.uk
SUMMARY:Photo|Frome: Cameraless Workshop – Traditional Cyanotype (Family Edition)
DESCRIPTION:Anjalika Baier will demonstrate a process using paper covered in cyanotype solution\, plant materials\, etc\, to enable participants to create unique sun prints. \nAll materials are provided\, however bringing along plant materials and/or small objects you like to use for the print is encouraged. \nFor families with children (suitable for ages 5-13 years\, accompanied by a responsible adult). \nBooking required. \n
URL:https://archive.discoverfrome.co.uk/event/photofrome-cameraless-workshop-traditional-cyanotype-family-edition/2023-07-09/
LOCATION:Rook Lane Chapel\, Rook Lane\, Bath Street\, Frome\, BA11 1DN
GEO:51.2292873;-2.3227339
X-APPLE-STRUCTURED-LOCATION;VALUE=URI;X-ADDRESS=Rook Lane Chapel Rook Lane Bath Street Frome BA11 1DN;X-APPLE-RADIUS=500;X-TITLE=Rook Lane\, Bath Street:geo:-2.3227339,51.2292873
CATEGORIES:Arts,Discover Frome,Family,Frome Festival,Photo|Frome,Workshop
ATTACH;FMTTYPE=image/jpeg:https://archive.discoverfrome.co.uk/wp-content/uploads/2023/05/©-Anjalika-Baier-Cyanotype.jpg
ORGANIZER;CN="Photo%7CFrome":MAILTO:info@photofrome.org
END:VEVENT
END:VCALENDAR