BEGIN:VCALENDAR
VERSION:2.0
PRODID:-//Discover Frome - ECPv4.6.26//NONSGML v1.0//EN
CALSCALE:GREGORIAN
METHOD:PUBLISH
X-WR-CALNAME:Discover Frome
X-ORIGINAL-URL:https://archive.discoverfrome.co.uk
X-WR-CALDESC:Events for Discover Frome
BEGIN:VEVENT
DTSTART;TZID=Europe/London:20230624T100000
DTEND;TZID=Europe/London:20230712T160000
DTSTAMP:20260419T160529
CREATED:20230522T172911Z
LAST-MODIFIED:20230522T175253Z
UID:60665-1687600800-1689177600@archive.discoverfrome.co.uk
SUMMARY:Photo|Frome: Decolonising Environments
DESCRIPTION:Decolonising Environments explores the complex and often conflicting relationships between human communities\, places\, and the natural world. \nEncompassing a range of styles\, subjects and genres\, Photo|Frome invites photographers and audiences to contribute to discussions around the social and\nenvironmental impacts of longstanding political\, cultural and economic ideas about our world. \nPresented by MPB\, the leading platform for photographers and videographers to trade equipment\, Rook Lane will showcase seven very different world-class practitioners: \nGideon Mendel \nChristina Simons \nGobinder Jhitta \nLeah Gordon \nJessee Alexander \nKeerthana Kunnath \nJacqueline Ennis-Cole \n
URL:https://archive.discoverfrome.co.uk/event/photofrome-decolonising-environments/
LOCATION:Rook Lane Chapel\, Rook Lane\, Bath Street\, Frome\, BA11 1DN
GEO:51.2292873;-2.3227339
X-APPLE-STRUCTURED-LOCATION;VALUE=URI;X-ADDRESS=Rook Lane Chapel Rook Lane Bath Street Frome BA11 1DN;X-APPLE-RADIUS=500;X-TITLE=Rook Lane\, Bath Street:geo:-2.3227339,51.2292873
CATEGORIES:Arts,Discover Frome,Exhibition,Photo|Frome
ATTACH;FMTTYPE=image/png:https://archive.discoverfrome.co.uk/wp-content/uploads/2023/05/Gideon-Mendel-photo.png
ORGANIZER;CN="Photo%7CFrome":MAILTO:info@photofrome.org
END:VEVENT
END:VCALENDAR