BEGIN:VCALENDAR
VERSION:2.0
PRODID:-//Discover Frome - ECPv4.6.26//NONSGML v1.0//EN
CALSCALE:GREGORIAN
METHOD:PUBLISH
X-WR-CALNAME:Discover Frome
X-ORIGINAL-URL:https://archive.discoverfrome.co.uk
X-WR-CALDESC:Events for Discover Frome
BEGIN:VEVENT
DTSTART;TZID=Europe/London:20240817T140000
DTEND;TZID=Europe/London:20240817T160000
DTSTAMP:20260419T134117
CREATED:20240702T101835Z
LAST-MODIFIED:20240812T110044Z
UID:70917-1723903200-1723910400@archive.discoverfrome.co.uk
SUMMARY:Plaques of Frome - Walking Festival
DESCRIPTION:\n\nPart of Frome Walking Festival – 18 walks over 3 days.  \nThe trail follows the plaques established by the Frome Society for Local Study to explore the rich heritage of Frome through its buildings and the interesting people who occupied them\, including figures like poet Christina Rossetti and the Duke of Monmouth\, who attempted to overthrow King James II. \n4-mile walk led by Andrew Hardy. \n\n\nLOCATION\nCheese and Grain\, Frome\, BA11 1BE \nBook your ticket here \n\n
URL:https://archive.discoverfrome.co.uk/event/plaques-of-frome-walking-festival-2/
LOCATION:Cheese and Grain Car Park\, Market Yard\, Frome\, BA111BE
GEO:51.2313518;-2.3213087
X-APPLE-STRUCTURED-LOCATION;VALUE=URI;X-ADDRESS=Cheese and Grain Car Park Market Yard Frome BA111BE;X-APPLE-RADIUS=500;X-TITLE=Market Yard:geo:-2.3213087,51.2313518
CATEGORIES:Discover Frome,Walking Festival,Walks
ATTACH;FMTTYPE=image/jpeg:https://archive.discoverfrome.co.uk/wp-content/uploads/2024/07/plaques.jpg
END:VEVENT
END:VCALENDAR