BEGIN:VCALENDAR
VERSION:2.0
PRODID:-//Discover Frome - ECPv4.6.26//NONSGML v1.0//EN
CALSCALE:GREGORIAN
METHOD:PUBLISH
X-WR-CALNAME:Discover Frome
X-ORIGINAL-URL:https://archive.discoverfrome.co.uk
X-WR-CALDESC:Events for Discover Frome
BEGIN:VEVENT
DTSTART;TZID=Europe/London:20240713T100000
DTEND;TZID=Europe/London:20240713T120000
DTSTAMP:20260419T160238
CREATED:20240613T143447Z
LAST-MODIFIED:20240613T143447Z
UID:70422-1720864800-1720872000@archive.discoverfrome.co.uk
SUMMARY:PLAYFIGHTING
DESCRIPTION:Discover Playfighting\, a unique way to experience the joy of physical play beyond competition or aggression. This workshop focuses on connection\, awareness\, and the basics of Playfighting\, aiming to uncover personal strengths and subconscious behaviors through playful engagement. It’s an opportunity to learn\, grow\, and find empowerment in a safe\, supportive setting. \n
URL:https://archive.discoverfrome.co.uk/event/playfighting/
LOCATION:Mycelium Space\, Station Approach\, Frome\, Somerset\, BA11 1RE\, United Kingdom
CATEGORIES:Discover Frome,Frome Festival,Workshop
ATTACH;FMTTYPE=image/jpeg:https://archive.discoverfrome.co.uk/wp-content/uploads/2024/06/playfighting.jpg
ORGANIZER;CN="Frome%20Festival":MAILTO:office@fromefestival.co.uk
END:VEVENT
END:VCALENDAR