BEGIN:VCALENDAR
VERSION:2.0
PRODID:-//Discover Frome - ECPv4.6.26//NONSGML v1.0//EN
CALSCALE:GREGORIAN
METHOD:PUBLISH
X-WR-CALNAME:Discover Frome
X-ORIGINAL-URL:https://archive.discoverfrome.co.uk
X-WR-CALDESC:Events for Discover Frome
BEGIN:VEVENT
DTSTART;TZID=Europe/London:20230520T190000
DTEND;TZID=Europe/London:20230520T230000
DTSTAMP:20260420T065808
CREATED:20230307T110115Z
LAST-MODIFIED:20230307T110115Z
UID:58801-1684609200-1684623600@archive.discoverfrome.co.uk
SUMMARY:Pomona Supper Club May 2023
DESCRIPTION:A seasonal supper club celebrating all things West country especially Somerset. \nThe May supper club is being held down stairs in the Cloisters on Vicarage Street dressed in candle light. \nThe 5 course seasonal menu starts with a glass of sparkling Somerset white and canapés and finishes with a local cheese and a glass of Pomona. \n
URL:https://archive.discoverfrome.co.uk/event/pomona-supper-club-may-2023/
LOCATION:Bennett Centre\, St John's Church Hall\,\, Vicarage Street\, Frome\, BA11 1PX
CATEGORIES:Discover Frome,Food & Drink
ATTACH;FMTTYPE=image/jpeg:https://archive.discoverfrome.co.uk/wp-content/uploads/2023/03/Pomona-supper-club.jpg
ORGANIZER;CN="Pomona%20Supper%20Club":MAILTO:pomonasupperclub@yahoo.com
END:VEVENT
END:VCALENDAR