BEGIN:VCALENDAR
VERSION:2.0
PRODID:-//Discover Frome - ECPv4.6.26//NONSGML v1.0//EN
CALSCALE:GREGORIAN
METHOD:PUBLISH
X-WR-CALNAME:Discover Frome
X-ORIGINAL-URL:https://archive.discoverfrome.co.uk
X-WR-CALDESC:Events for Discover Frome
BEGIN:VEVENT
DTSTART;TZID=Europe/London:20240925T133000
DTEND;TZID=Europe/London:20240925T163000
DTSTAMP:20260420T045707
CREATED:20240822T150340Z
LAST-MODIFIED:20240822T150340Z
UID:71722-1727271000-1727281800@archive.discoverfrome.co.uk
SUMMARY:Preparing your business to manage the impact of cancer in the workplace
DESCRIPTION:We Hear You are delighted announce a new service offering to the local community\, ‘WHYinwork’ this year\, our 30th year of service! WHYinwork has been created to help support employers to manage the impact of cancer and life-threatening conditions within their workforce. \nOur next WHYinwork Seminar is in person at Rook Lane Chapel\, Frome \nDate: Wednesday 25th September \nTime: 1.30-4.30pm \nTickets £135 \nBook your place today: https://shorturl.at/gGVwc \nSee our upcoming dates in 2024/25 here: https://shorturl.at/zICGj \nEvery year in the UK more than 120\,000 people of working-age (1) receive a cancer diagnosis. With this figure rising every organisation should be prepared\, for the good of their employees and their business. \nWHY can help by offering seminars to support businesses to be prepared to support their employees. These seminars are particularly for managers and HR professionals. We Hear You can also provide bespoke in-house training for managers\, along with offering specialist counselling and therapeutic support for employees. \n
URL:https://archive.discoverfrome.co.uk/event/preparing-your-business-to-manage-the-impact-of-cancer-in-the-workplace/
LOCATION:Rook Lane Chapel\, Rook Lane\, Bath Street\, Frome\, BA11 1DN
GEO:51.2292873;-2.3227339
X-APPLE-STRUCTURED-LOCATION;VALUE=URI;X-ADDRESS=Rook Lane Chapel Rook Lane Bath Street Frome BA11 1DN;X-APPLE-RADIUS=500;X-TITLE=Rook Lane\, Bath Street:geo:-2.3227339,51.2292873
CATEGORIES:Business,Charity Event,Coaching,Discover Frome,Facilitation,Health & Wellbeing,Support,Talk
ATTACH;FMTTYPE=image/png:https://archive.discoverfrome.co.uk/wp-content/uploads/2024/08/whyinword-seminar.png
ORGANIZER;CN="We%20Hear%20You":MAILTO:info@wehearyou.org.uk
END:VEVENT
END:VCALENDAR