BEGIN:VCALENDAR
VERSION:2.0
PRODID:-//Discover Frome - ECPv4.6.26//NONSGML v1.0//EN
CALSCALE:GREGORIAN
METHOD:PUBLISH
X-WR-CALNAME:Discover Frome
X-ORIGINAL-URL:https://archive.discoverfrome.co.uk
X-WR-CALDESC:Events for Discover Frome
BEGIN:VEVENT
DTSTART;TZID=Europe/London:20240413T110000
DTEND;TZID=Europe/London:20240413T121500
DTSTAMP:20260421T215637
CREATED:20240405T101101Z
LAST-MODIFIED:20240405T101101Z
UID:68654-1713006000-1713010500@archive.discoverfrome.co.uk
SUMMARY:Qi-Gong classes with Candida Valentino
DESCRIPTION:Qi-Gong classes developing strength\, flexibility of body & steadiness of mind with Candida Valentino. \n11am-12:15pm Saturdays \nLearn & practice continuous Qigong movements\, 18 Shibashi\, 8 Brocades\, 12 Muscle Tendon Changing Classics\, fun animal frolics\, standing meditations focusing on the elements and sounds for health. \nUnderstand how each of the movements work in your body and how they relate to different organs. We will always start with joint warm ups and end with a warm down\, and some stillness. \nAll classes at The Sonic Retreat Centre\, Frome\, Somerset BA11 3NG \nMaximum of 6 people. \n£8 per class or book 4 for £28. \nTo book your place email candidavalentino@yahoo.co.uk or call 07837 074505. \n
URL:https://archive.discoverfrome.co.uk/event/qi-gong-classes-with-candida-valentino-2/
LOCATION:The Sonic Retreat Centre\, Frome\, BA11 3NG
GEO:51.2346462;-2.3377903
X-APPLE-STRUCTURED-LOCATION;VALUE=URI;X-ADDRESS=The Sonic Retreat Centre Frome BA11 3NG;X-APPLE-RADIUS=500;X-TITLE=Frome:geo:-2.3377903,51.2346462
CATEGORIES:Arts,Discover Frome,Health & Wellbeing
ATTACH;FMTTYPE=image/jpeg:https://archive.discoverfrome.co.uk/wp-content/uploads/2024/04/Qi-Gong-Image.jpg
ORGANIZER;CN="Candida%20Valentino":MAILTO:ormi_khoomii@yahoo.com
END:VEVENT
END:VCALENDAR