BEGIN:VCALENDAR
VERSION:2.0
PRODID:-//Discover Frome - ECPv4.6.26//NONSGML v1.0//EN
CALSCALE:GREGORIAN
METHOD:PUBLISH
X-WR-CALNAME:Discover Frome
X-ORIGINAL-URL:https://archive.discoverfrome.co.uk
X-WR-CALDESC:Events for Discover Frome
BEGIN:VEVENT
DTSTART;TZID=Europe/London:20241026T150000
DTEND;TZID=Europe/London:20241026T180000
DTSTAMP:20260421T110052
CREATED:20240930T115122Z
LAST-MODIFIED:20240930T115122Z
UID:72348-1729954800-1729965600@archive.discoverfrome.co.uk
SUMMARY:Raving Rascals - Halloween Rave
DESCRIPTION:Spooky season is here and this Halloween weekend we are inviting you to our Raving Rascals Halloween rave! \nTaking place in the creepy Rook Lane Chapel (Frome\, Somerset\, BA11 1DN) we will have our usual tuck shop with treats\, no tricks! The fantastic Glitter Temple will be back to help you feel and look the part but don’t forget we will also be holding a fancy dress competition and the best dressed will win a free ticket to our Christmas rave. So get your spooky outfits ready!!\nWe will have a bouncy castle for you little ravers.\nThe music will be raising the roof in the main room and the second room will be quieter chill out zone.\nLine up\nLLOYDY B2B LEMZ – DNBDJ RAYNER B2B DJ ZEN – JUNGLENIXIE – UKG\nSee you little ravers on the dancefloor.\nPlease note – Under 13s need to be accompanied by an adultUnder 3s rave for free\n
URL:https://archive.discoverfrome.co.uk/event/raving-rascals-halloween-rave/
LOCATION:Rook Lane Chapel\, Rook Lane\, Bath Street\, Frome\, BA11 1DN
GEO:51.2292873;-2.3227339
X-APPLE-STRUCTURED-LOCATION;VALUE=URI;X-ADDRESS=Rook Lane Chapel Rook Lane Bath Street Frome BA11 1DN;X-APPLE-RADIUS=500;X-TITLE=Rook Lane\, Bath Street:geo:-2.3227339,51.2292873
CATEGORIES:Children,Dance,Discover Frome,DJ Set,Family,Half Term & Holidays,Halloween,Music
ATTACH;FMTTYPE=image/jpeg:https://archive.discoverfrome.co.uk/wp-content/uploads/2024/09/raving-rascals.jpg
ORGANIZER;CN="Bass%20Beatz":MAILTO:bassbeatzball@gmail.com
END:VEVENT
END:VCALENDAR