BEGIN:VCALENDAR
VERSION:2.0
PRODID:-//Discover Frome - ECPv4.6.26//NONSGML v1.0//EN
CALSCALE:GREGORIAN
METHOD:PUBLISH
X-WR-CALNAME:Discover Frome
X-ORIGINAL-URL:https://archive.discoverfrome.co.uk
X-WR-CALDESC:Events for Discover Frome
BEGIN:VEVENT
DTSTART;TZID=Europe/London:20231112T105500
DTEND;TZID=Europe/London:20231112T112000
DTSTAMP:20260419T145339
CREATED:20231019T093511Z
LAST-MODIFIED:20231019T093529Z
UID:63065-1699786500-1699788000@archive.discoverfrome.co.uk
SUMMARY:Remembrance Sunday Parade
DESCRIPTION:Remembering and Honouring Service at this year’s Remembrance in Frome \nSunday\, 12th November 2023 at 10:55 \nFrome War Memorial (BA11 1EB) \nUnited by the theme of “Service” Frome will be coming together for the annual Act of Remembrance on Sunday\, 12th November 2023 at 10.55.  Keeping with tradition\, there will be a parade from the Drill Hall\, Keyford to the Memorial Theatre garden where a short service will be led by Rev Colin Alsbury.  The Last Post will be played to herald the two minutes silence at 11 o’clock.  Wreaths will then be laid led by the Royal British Legion\, on behalf of the nation\, followed by the Mayor of Frome Cllr Philip Campagna\, and veterans and serving personnel.  Representatives of organisations\, youth groups and individuals then follow.  The Frome Town Band will accompany the service.  Dedications to the memory of the past\, and with it the message of recovery\, reconciliation and peace will resonate. \n
URL:https://archive.discoverfrome.co.uk/event/remembrance-sunday-parade/
LOCATION:Frome Memorial Theatre\, Christchurch Street West\, Frome\, BA11 1EB
GEO:51.2291809;-2.3240101
X-APPLE-STRUCTURED-LOCATION;VALUE=URI;X-ADDRESS=Frome Memorial Theatre Christchurch Street West Frome BA11 1EB;X-APPLE-RADIUS=500;X-TITLE=Christchurch Street West:geo:-2.3240101,51.2291809
CATEGORIES:Community,Discover Frome,History & Heritage
ATTACH;FMTTYPE=image/jpeg:https://archive.discoverfrome.co.uk/wp-content/uploads/2023/10/Frome-Memorial-with-Charlie-Robins-Soldier-20221114_113706.jpg
ORGANIZER;CN="Jane%20Norris":MAILTO:jane.norris9@gmail.com
END:VEVENT
END:VCALENDAR