BEGIN:VCALENDAR
VERSION:2.0
PRODID:-//Discover Frome - ECPv4.6.26//NONSGML v1.0//EN
CALSCALE:GREGORIAN
METHOD:PUBLISH
X-WR-CALNAME:Discover Frome
X-ORIGINAL-URL:https://archive.discoverfrome.co.uk
X-WR-CALDESC:Events for Discover Frome
BEGIN:VEVENT
DTSTART;TZID=Europe/London:20231216T190000
DTEND;TZID=Europe/London:20231216T233000
DTSTAMP:20260421T122253
CREATED:20230822T114452Z
LAST-MODIFIED:20230822T114552Z
UID:62400-1702753200-1702769400@archive.discoverfrome.co.uk
SUMMARY:Rhythm of the 90s & Dave Pearce
DESCRIPTION:Get ready for a night of non-stop dance music as Rhythm of the 90s\, the UK’s premier live 90s dance anthems band\, returns to Frome for a very special pre-Christmas party joined by legendary DJ and producer Dave Pearce. \nThis time\, the band will play an additional set of live Trance club tunes from the 90s\, ensuring that the dance floor will be packed from start to finish. \nRhythm of the 90s will kick off the night with their infectious energy and incredible musicianship\, performing classic hits from Darude\, The Prodigy\, Sash\, Faithless\, Haddaway\, Robin S\, Corona\, Baby D\, N-Trance and more. All with the power and excitement of a fully live 7-piece band. Their nostalgic journey through the 90s dance scene is sure to get the crowd moving and singing along to every hit. \nDave Pearce will then take the stage\, bringing his extensive knowledge and love of 90s dance anthems to the event. As a pioneer of the UK dance music scene\, Dave is a master of creating unforgettable dance floor moments\, and his set is guaranteed to keep the crowd dancing all night long. \nThe additional set of live Trance club tunes from the 90s promises to be the highlight of the night\, as Rhythm of the 90s bring the best of the era’s club music to life with their signature energy and musicianship. Expect to hear classic trance anthems from artists like Paul Oakenfold\, Armin van Buuren\,Tiesto\, and more\, all performed with the power of a fully live band. \n
URL:https://archive.discoverfrome.co.uk/event/rhythm-of-the-90s-dave-pearce/
LOCATION:Cheese and Grain\, Market Yard\, Frome\, BA11 1BE
GEO:51.2318708;-2.3202807
X-APPLE-STRUCTURED-LOCATION;VALUE=URI;X-ADDRESS=Cheese and Grain Market Yard Frome BA11 1BE;X-APPLE-RADIUS=500;X-TITLE=Market Yard:geo:-2.3202807,51.2318708
CATEGORIES:Discover Frome,DJ Set,Music
ATTACH;FMTTYPE=image/png:https://archive.discoverfrome.co.uk/wp-content/uploads/2023/08/CHEESE-FB-1024x536-1.png
END:VEVENT
END:VCALENDAR