BEGIN:VCALENDAR
VERSION:2.0
PRODID:-//Discover Frome - ECPv4.6.26//NONSGML v1.0//EN
CALSCALE:GREGORIAN
METHOD:PUBLISH
X-WR-CALNAME:Discover Frome
X-ORIGINAL-URL:https://archive.discoverfrome.co.uk
X-WR-CALDESC:Events for Discover Frome
BEGIN:VEVENT
DTSTART;TZID=Europe/London:20240712T193000
DTEND;TZID=Europe/London:20240712T213000
DTSTAMP:20260419T183219
CREATED:20240618T134642Z
LAST-MODIFIED:20240618T134642Z
UID:70547-1720812600-1720819800@archive.discoverfrome.co.uk
SUMMARY:RICHARD LENNOX - MY KIND OF MUSIC
DESCRIPTION:Treat yourself to an inspiring musical evening with Richard Lennox. \nRichard Lennox is a fast-emerging classical crossover artist. A virtuoso Musician who plays everything from Bach to the Beatles\, Musical Theatre to Rock and Roll and just about everything else in between\, as Master Of The Keys he holds a phenomenal stage presence with the technical ability to truly entertain. \nBoth recording artist and live performer\, Richard optimises on his creative juices\, bridging the gap between different genres of music whether it be a rousing pop song or traditional classical arrangements. Unique in his talent\, he encompasses playing piano\, organ\, keyboards\, double bass\, composing and arranging; all with an infectious enthusiasm. \nPrimarily self-taught\, Richard has worked in most genres of the music industry; from accompanying choirs\, singers\, instrumentalists to writing and arranging. Combined with his ability as a multi keyboard instrumentalist\, Richard breaks the boundaries of the Classical Crossover world\, incorporating his stunning musical creations into unique Concert/Show and Recording formats. \nWorking extensively in Theatre\, Cabaret and major concert venues across the UK and Europe including the world famous Royal Albert Hall – he is no stranger to guest spots in the UKs Cathedrals\, Delighting venues and audiences alike with the Lennox spin to piano and organ performance. \nIt’s clear he has been influenced by Artist’s such as Rick Wakeman\, Nigel Kennedy\, Andre Rieu\, David Garrett and 70’s Rock band ‘SKY’. \nRichard retains incredible integrity in the music whether playing standard repertoire or crossover arrangements of popular masterpieces.\nHe is the all round performer for any occasion from the concert stage\, arena or corporate event. \nRichard Lennox is an excellent artist to check out as an introduction to classical music\, and provides a fresh perspective for those already a fan of the genre. \n
URL:https://archive.discoverfrome.co.uk/event/richard-lennox-my-kind-of-music/
LOCATION:Holy Trinity Church\, Trinity Street\, Frome\, BA11 3DE
GEO:51.2331678;-2.3271693
X-APPLE-STRUCTURED-LOCATION;VALUE=URI;X-ADDRESS=Holy Trinity Church Trinity Street Frome BA11 3DE;X-APPLE-RADIUS=500;X-TITLE=Trinity Street:geo:-2.3271693,51.2331678
CATEGORIES:Discover Frome,Frome Festival,Music
ATTACH;FMTTYPE=image/jpeg:https://archive.discoverfrome.co.uk/wp-content/uploads/2024/06/IMG_0012-e1714127623752-980x551-1.jpeg
END:VEVENT
END:VCALENDAR