BEGIN:VCALENDAR
VERSION:2.0
PRODID:-//Discover Frome - ECPv4.6.26//NONSGML v1.0//EN
CALSCALE:GREGORIAN
METHOD:PUBLISH
X-WR-CALNAME:Discover Frome
X-ORIGINAL-URL:https://archive.discoverfrome.co.uk
X-WR-CALDESC:Events for Discover Frome
BEGIN:VEVENT
DTSTART;VALUE=DATE:20250308
DTEND;VALUE=DATE:20250309
DTSTAMP:20260419T123007
CREATED:20250127T131337Z
LAST-MODIFIED:20250127T131405Z
UID:74268-1741392000-1741478399@archive.discoverfrome.co.uk
SUMMARY:Save the date: International Womens Day 2025
DESCRIPTION:Save the date for International Women’s Day events taking place in and around Frome this March. \n
URL:https://archive.discoverfrome.co.uk/event/save-the-date-international-womens-day-2025/
ATTACH;FMTTYPE=image/jpeg:https://archive.discoverfrome.co.uk/wp-content/uploads/2025/01/international-womens-day-e1737983639649.jpg
END:VEVENT
END:VCALENDAR