BEGIN:VCALENDAR
VERSION:2.0
PRODID:-//Discover Frome - ECPv4.6.26//NONSGML v1.0//EN
CALSCALE:GREGORIAN
METHOD:PUBLISH
X-WR-CALNAME:Discover Frome
X-ORIGINAL-URL:https://archive.discoverfrome.co.uk
X-WR-CALDESC:Events for Discover Frome
BEGIN:VEVENT
DTSTART;TZID=Europe/London:20240928T100000
DTEND;TZID=Europe/London:20240928T160000
DTSTAMP:20260420T081014
CREATED:20240905T111308Z
LAST-MODIFIED:20240905T111308Z
UID:71944-1727517600-1727539200@archive.discoverfrome.co.uk
SUMMARY:Scrap Store
DESCRIPTION:The Pod Scrapstore will be open to the public and stock an assortment of fabrics\, haberdashery items etc for clothing repair and creation. We also have a selection of shop mannequins should anyone want one. Free! \n
URL:https://archive.discoverfrome.co.uk/event/scrap-store/
CATEGORIES:Clothing & Textiles,crafts,Discover Frome,Sustainability
ATTACH;FMTTYPE=image/png:https://archive.discoverfrome.co.uk/wp-content/uploads/2024/09/scrap-store.png
ORGANIZER;CN="The%20Pod":MAILTO:admin@thepodcharity.org.uk
END:VEVENT
END:VCALENDAR