BEGIN:VCALENDAR
VERSION:2.0
PRODID:-//Discover Frome - ECPv4.6.26//NONSGML v1.0//EN
CALSCALE:GREGORIAN
METHOD:PUBLISH
X-WR-CALNAME:Discover Frome
X-ORIGINAL-URL:https://archive.discoverfrome.co.uk
X-WR-CALDESC:Events for Discover Frome
BEGIN:VEVENT
DTSTART;TZID=Europe/London:20241120T193000
DTEND;TZID=Europe/London:20241120T223000
DTSTAMP:20260421T082622
CREATED:20241017T110658Z
LAST-MODIFIED:20241017T110658Z
UID:72659-1732131000-1732141800@archive.discoverfrome.co.uk
SUMMARY:Sergeant Thunderhoof
DESCRIPTION:Rock five-piece Sergeant Thunderhoof return with the release of their fifth studio album ‘The Ghost of Badon Hill’ on November 15th 2024 via Pale Wizard Records\, the follow up to 2022’s acclaimed album ‘This Sceptred Veil’. \nHailing from the historical area of Somerset Sergeant Thunderhoof have yet again delved deep into local history\, mythology and folklore to deliver their most focussed album to date. ‘The Ghost of Badon Hill’ is a true conceptual piece\, set in the 4th Century AD and positively charged with raw emotion and Arthurian mysticism. Recorded with Josh Gallop (who recently became an official member of the band) at Stage 2 Studios in Bath and mastered by Tony Reed (Mos Generator)\, their new LP sees the band exploring wider and more textured sonic landscapes\, whilst conceptually delving into Somerset’s famous Battle of Badon. \nPlease join us at The Tree House for our official launch show where we will be joined by our great friends and fantastic band Duskwood. \nPlease note this is an 18+ event\, and the venue is accessed by stairs with no lift. If you have any enquiries please email thetreehouse@cheeseandgrain.com \n
URL:https://archive.discoverfrome.co.uk/event/sergeant-thunderhoof-2/
LOCATION:The Tree House\, 35 Berkley Road\, Frome\, Somerset\, BA11 2EH\, United Kingdom
CATEGORIES:Discover Frome,Live Band,Music,Nightlife
ATTACH;FMTTYPE=image/jpeg:https://archive.discoverfrome.co.uk/wp-content/uploads/2024/10/366323639_775004891291964_3664385387759193447_n.jpg
END:VEVENT
END:VCALENDAR