BEGIN:VCALENDAR
VERSION:2.0
PRODID:-//Discover Frome - ECPv4.6.26//NONSGML v1.0//EN
CALSCALE:GREGORIAN
METHOD:PUBLISH
X-WR-CALNAME:Discover Frome
X-ORIGINAL-URL:https://archive.discoverfrome.co.uk
X-WR-CALDESC:Events for Discover Frome
BEGIN:VEVENT
DTSTART;TZID=Europe/London:20240831T103000
DTEND;TZID=Europe/London:20240831T143000
DTSTAMP:20260419T193026
CREATED:20240813T104552Z
LAST-MODIFIED:20240813T104552Z
UID:71488-1725100200-1725114600@archive.discoverfrome.co.uk
SUMMARY:Seriously Playful
DESCRIPTION:‘Seriously Playful’ is a clowning and improvisation workshop established in London\, and now relocated and hosted by the Merlin Theatre\, Frome. \nThis workshop takes you through a process developed by Marina Sossi that is suitable for all people\, particularly those who are more sensitive. This begins with releasing tension in the body\, moving and vocalising and slowly returning yourself to a more natural state of play\, creative expression and freedom. We challenge the habitual and restrictive adult states we have learnt and been conditioned by and rediscover the wonder and awe of our lived experience and the power of authentic connection. You don’t have to be funny or clever or a performer to take part. \nClowning\, challenges us to:\n*Claim the moment and follow it\n*Remove the masks and roles that contain and restrict us\n*Trust in the chaotic nature of life\n*Dare to relate honestly\n*Explore\, express and celebrate every part of ourselves \nIn taking these risks we are richly rewarded:\n*Recover the inner genius that has been hidden or wounded\n*Get high without drugs\n*Feel boundless joy\n*Relief from pain\n*Belly laughs \nAdvance booking essential as numbers are limited.\n£35 if booked before August 17th\, (£45 afterwards)\nLimited bursaries available on request \nIf you are feeling uninspired\, flat\, exhausted or overwhelmed Seriously Playful is guaranteed to return you to a more energised and creative version of yourself…. Or your money back!!!\nDM or email Marina to book and find out more: hello@marina-sossi.com \n
URL:https://archive.discoverfrome.co.uk/event/seriously-playful/
LOCATION:Merlin Theatre\, Bath Road\, Frome\, BA11 2HG 
GEO:51.2412644;-2.3118242
X-APPLE-STRUCTURED-LOCATION;VALUE=URI;X-ADDRESS=Merlin Theatre Bath Road Frome BA11 2HG;X-APPLE-RADIUS=500;X-TITLE=Bath Road:geo:-2.3118242,51.2412644
CATEGORIES:Coaching,Discover Frome,Health & Wellbeing,Workshop
ATTACH;FMTTYPE=image/jpeg:https://archive.discoverfrome.co.uk/wp-content/uploads/2024/08/Marina-Clown-Serious-Play.jpg
ORGANIZER;CN="Marina%20Sossi":MAILTO:hello@marina-sossi.com
END:VEVENT
END:VCALENDAR