BEGIN:VCALENDAR
VERSION:2.0
PRODID:-//Discover Frome - ECPv4.6.26//NONSGML v1.0//EN
CALSCALE:GREGORIAN
METHOD:PUBLISH
X-WR-CALNAME:Discover Frome
X-ORIGINAL-URL:https://archive.discoverfrome.co.uk
X-WR-CALDESC:Events for Discover Frome
BEGIN:VEVENT
DTSTART;TZID=Europe/London:20240416T103000
DTEND;TZID=Europe/London:20240416T153000
DTSTAMP:20260421T125101
CREATED:20240319T160224Z
LAST-MODIFIED:20240319T160224Z
UID:68207-1713263400-1713281400@archive.discoverfrome.co.uk
SUMMARY:SHARE Repair Cafe
DESCRIPTION:If you have something you’d like to fix\, the SHARE Volunteer Repair Team may be able to help. We are holding a Repair Café at SHARE on Tuesday 16th April between 10:30-15:30. Book a slot at this event by completing our ‘Repairs Registration Form‘ in full. Please provide as much information as you can about what’s wrong with your item (including photos) and then agree our disclaimer before submitting it to us. We will then get in touch to organise a time for your visit on the day. If you do not hear from us\, please do not turn up at this event. We will be in touch after to organise an alternative time for your repair. \nRegister your repair at – https://sharefrome.org/customer-repairs/ \n
URL:https://archive.discoverfrome.co.uk/event/share-repair-cafe-2/
LOCATION:Share – A Library of Things\, 3A The Bridge\, Market Place\, Frome\, England\, BA11 1AR\, United Kingdom
CATEGORIES:Community,Discover Frome,Sustainability,Workshop
ATTACH;FMTTYPE=image/jpeg:https://archive.discoverfrome.co.uk/wp-content/uploads/2024/03/Repairs.jpg
END:VEVENT
END:VCALENDAR