BEGIN:VCALENDAR
VERSION:2.0
PRODID:-//Discover Frome - ECPv4.6.26//NONSGML v1.0//EN
CALSCALE:GREGORIAN
METHOD:PUBLISH
X-WR-CALNAME:Discover Frome
X-ORIGINAL-URL:https://archive.discoverfrome.co.uk
X-WR-CALDESC:Events for Discover Frome
BEGIN:VEVENT
DTSTART;TZID=Europe/London:20240417T190000
DTEND;TZID=Europe/London:20240417T230000
DTSTAMP:20260421T171619
CREATED:20240328T165117Z
LAST-MODIFIED:20240328T165117Z
UID:68434-1713380400-1713394800@archive.discoverfrome.co.uk
SUMMARY:Show of Hands
DESCRIPTION:In the spring of 2024\, music enthusiasts and folk fans across the nation are in for a treat as Steve Knightley and Phil Beer prepare to embark on a journey back to where it all began. With a rich history spanning three decades the duo are renowned for their unique ‘hands-on’ cottage industry approach to touring\, and this upcoming tour promises to be a celebration of their enduring legacy. Village halls\, folk clubs\, small arts centres\, and community venues are the very places where they honed their craft\, building their following from the grassroots up. \nThis will be an opportunity to reconnect with their loyal supporters\, and a chance to inspire a new generation of folk musicians. One of the defining aspects of Show of Hands’ career has been their unwavering commitment to supporting grassroots promoters. Their policy of profit sharing and providing all production equipment has empowered countless individuals to organise concerts in their local communities. This ethos has not only enriched the folk music scene but also strengthened the bonds between artists and their audiences. \nFollowing this tour\, Steve and Phil will be taking a well-deserved break from the limelight. They plan to pursue solo projects\, explore new creative horizons\, and recharge their artistic batteries. This indefinite hiatus marks the end of an era\, but it also heralds exciting new beginnings for two of the folk world’s best loved musicians. Show of Hands’ dedication to their roots\, their music\, and the communities that have supported them is a testament to their enduring legacy. \nThe spring of 2024 promises to be a time of reflection\, celebration as we bid farewell to an era while eagerly anticipating the next chapter in the incredible journey of Steve Knightley and Phil Beer. \n
URL:https://archive.discoverfrome.co.uk/event/show-of-hands-2/
LOCATION:Cheese and Grain\, Market Yard\, Frome\, BA11 1BE
GEO:51.2318708;-2.3202807
X-APPLE-STRUCTURED-LOCATION;VALUE=URI;X-ADDRESS=Cheese and Grain Market Yard Frome BA11 1BE;X-APPLE-RADIUS=500;X-TITLE=Market Yard:geo:-2.3202807,51.2318708
CATEGORIES:Discover Frome,Live Band,Music
ATTACH;FMTTYPE=image/jpeg:https://archive.discoverfrome.co.uk/wp-content/uploads/2024/03/full-circle-part-ii-landscape-silhouette.jpg
END:VEVENT
END:VCALENDAR