BEGIN:VCALENDAR
VERSION:2.0
PRODID:-//Discover Frome - ECPv4.6.26//NONSGML v1.0//EN
CALSCALE:GREGORIAN
METHOD:PUBLISH
X-WR-CALNAME:Discover Frome
X-ORIGINAL-URL:https://archive.discoverfrome.co.uk
X-WR-CALDESC:Events for Discover Frome
BEGIN:VEVENT
DTSTART;TZID=Europe/London:20241116T193000
DTEND;TZID=Europe/London:20241116T193000
DTSTAMP:20260421T172159
CREATED:20240416T110412Z
LAST-MODIFIED:20240416T110412Z
UID:68783-1731785400-1731785400@archive.discoverfrome.co.uk
SUMMARY:Showaddywaddy - 50th Anniversary Tour
DESCRIPTION:The Greatest Rock & Roll Band In The World’ is a bold statement\, but Showaddywaddy have lived up to that title for the last 5 decades! \nFormed in Leicester in 1973 from an amalgamation of several local bands\, Showaddywaddy have gone on to sell more than 20 million records and tour all four corners of the globe. \nThey have long been established as Europe’s most successful ever exponents of retro-inspired rock’n’roll. The record simply speaks for itself! \n23 Top 40 hit singles\, including 10 Top 5 hits Under The Moon of Love\, When\, You Got What It Takes\, 3 Steps To Heaven\, Hey Rock & Roll and many more. \n15 massive selling albums (including the Christmas number 1 in 1978) \nAn incredible live show – acclaimed the world over! \nIn excess of 50 Top of the Pops performances\, and countless industry awards! \nRoyal Variety performances (one to the delight of the Queen Mother – who actually requested to meet the band post-performance) \nBill toppers at the prestigious Golden Orpheus World Music Festival before a staggering TV audience of 300 million people – making history in the process by becoming the first western-world band to be screened live in Communist Cuba! \nAs if the band’s amazing success through four decades were not enough\, the demand for these legendary performers is as strong as ever – surely a testament to their outstanding reputation as live artists. \n
URL:https://archive.discoverfrome.co.uk/event/showaddywaddy-50th-anniversary-tour/
LOCATION:Frome Memorial Theatre\, Christchurch Street West\, Frome\, BA11 1EB
GEO:51.2291809;-2.3240101
X-APPLE-STRUCTURED-LOCATION;VALUE=URI;X-ADDRESS=Frome Memorial Theatre Christchurch Street West Frome BA11 1EB;X-APPLE-RADIUS=500;X-TITLE=Christchurch Street West:geo:-2.3240101,51.2291809
CATEGORIES:Discover Frome,Live Band,Music,Theatre
ATTACH;FMTTYPE=image/jpeg:https://archive.discoverfrome.co.uk/wp-content/uploads/2024/04/stacks-image-f77f69d-1200x1200-1.jpg
END:VEVENT
END:VCALENDAR