BEGIN:VCALENDAR
VERSION:2.0
PRODID:-//Discover Frome - ECPv4.6.26//NONSGML v1.0//EN
CALSCALE:GREGORIAN
METHOD:PUBLISH
X-WR-CALNAME:Discover Frome
X-ORIGINAL-URL:https://archive.discoverfrome.co.uk
X-WR-CALDESC:Events for Discover Frome
BEGIN:VEVENT
DTSTART;TZID=Europe/London:20240707T140000
DTEND;TZID=Europe/London:20240707T160000
DTSTAMP:20260419T121436
CREATED:20240606T143025Z
LAST-MODIFIED:20240606T143139Z
UID:70002-1720360800-1720368000@archive.discoverfrome.co.uk
SUMMARY:SOUND MAKERS STAGE FAMILY CONCERT
DESCRIPTION:Experience the magic of Sound Makers Stage\, an inspiring afternoon of live music for the whole family. Enjoy captivating performances by Lorikeet with Heather Truesdall\, Rosanna Shura and Dave Smith and participate in some Groove Tots classics and a beatbox extravaganza! \n
URL:https://archive.discoverfrome.co.uk/event/sound-makers-stage-family-concert/
LOCATION:Makers Yard\, 37 Lower Keyford\, Frome\, Somerset\, BA11 4AR\, United Kingdom
CATEGORIES:Concert,Discover Frome,Frome Festival
ATTACH;FMTTYPE=image/jpeg:https://archive.discoverfrome.co.uk/wp-content/uploads/2024/06/Sound-makers.jpg
ORGANIZER;CN="Frome%20Festival":MAILTO:office@fromefestival.co.uk
END:VEVENT
END:VCALENDAR