BEGIN:VCALENDAR
VERSION:2.0
PRODID:-//Discover Frome - ECPv4.6.26//NONSGML v1.0//EN
CALSCALE:GREGORIAN
METHOD:PUBLISH
X-WR-CALNAME:Discover Frome
X-ORIGINAL-URL:https://archive.discoverfrome.co.uk
X-WR-CALDESC:Events for Discover Frome
BEGIN:VEVENT
DTSTART;TZID=Europe/London:20230715T180000
DTEND;TZID=Europe/London:20230715T193000
DTSTAMP:20260420T081639
CREATED:20230607T140747Z
LAST-MODIFIED:20230607T155813Z
UID:61314-1689444000-1689449400@archive.discoverfrome.co.uk
SUMMARY:ST CATHERINE’S COMEDY CRAWL – PALMER STREET BOTTLE (EARLY SHOW)
DESCRIPTION:Frome’s unique comedy experience returns for 2023. The Pop-Up Comedy folks who bring you Rode Comedy Festival\, have partnered with some of Frome’s loveliest venues to transform them into Pop-up comedy clubs\, for a small and intimate comedy experience. You choose your venue and the comedians come to you! \n
URL:https://archive.discoverfrome.co.uk/event/st-catherines-comedy-crawl-palmer-street-bottle-late-show/
LOCATION:The Palmer Street Bottle\, 11 Palmer Street\, BA11 1DS\, United Kingdom
CATEGORIES:Comedy,Discover Frome,Frome Festival
ATTACH;FMTTYPE=image/jpeg:https://archive.discoverfrome.co.uk/wp-content/uploads/2023/06/St-Catherines-Comedy-Crawl-1.jpg
ORGANIZER;CN="Frome%20Festival":MAILTO:office@fromefestival.co.uk
END:VEVENT
END:VCALENDAR