BEGIN:VCALENDAR
VERSION:2.0
PRODID:-//Discover Frome - ECPv4.6.26//NONSGML v1.0//EN
CALSCALE:GREGORIAN
METHOD:PUBLISH
X-WR-CALNAME:Discover Frome
X-ORIGINAL-URL:https://archive.discoverfrome.co.uk
X-WR-CALDESC:Events for Discover Frome
BEGIN:VEVENT
DTSTART;TZID=Europe/London:20231202T100000
DTEND;TZID=Europe/London:20231202T160000
DTSTAMP:20260419T210308
CREATED:20231107T123050Z
LAST-MODIFIED:20231107T123107Z
UID:63370-1701511200-1701532800@archive.discoverfrome.co.uk
SUMMARY:Stick Christmas Tree Making Workshop
DESCRIPTION:This Christmas SHARE will be looking to raise vital funds by running Christmas workshops focused on making your Christmas 2023 a beautiful\, practical AND sustainable one. \nNothing we will be doing in our workshops is tricky so everybody can come\, have fun and relax in the knowledge that they will come away with something lovely at the end. \nOur ‘Stick Christmas Tree’ workshop tickets are available for a donation of £40. The workshop is a full day event and includes all materials and a delicious lunch. It would be lovely for you and a friend or family member to do together so you can enjoy a total of 6 lovely hours walking\, foraging and crafting with us in the lead up to Christmas. \nWe will meet at the Vallis Vale car park at Egford (https://maps.app.goo.gl/BDE3G1azXcseH7R36) to take an easy walk to find the perfect sticks to make our gorgeous Stick Christmas Trees. Bring along a cuppa and we’ll supply the biscuits so we can take a break from stick foraging and enjoy our beautiful surroundings (weather permitting). \nOnce we’ve gathered the perfect sticks for our Stick Christmas Trees we will meet up at SHARE Frome Library of Things where we will provide you with a nice warming lunch before we piece together our trees ready for you to take home to decorate and display. All the materials you need will be provided including a set of solar powered fairy lights to get you started. \nThere are only 10 spaces on this workshop so please book as soon as you know you’d like to come. And in the meantime\, if we have forgotten anything and you have questions for us then you can email Jess on office@sharefrome.org. \nCLICK HERE TO BOOK – https://www.eventbrite.co.uk/e/stick-christmas-tree-making-workshop-2-dec-tickets-737519991147?utm-campaign=social&utm-content=attendeeshare&utm-medium=discovery&utm-term=listing&utm-source=cp&aff=ebdsshcopyurl \n
URL:https://archive.discoverfrome.co.uk/event/stick-christmas-tree-making-workshop/
LOCATION:Share – A Library of Things\, 3A The Bridge\, Market Place\, Frome\, England\, BA11 1AR\, United Kingdom
CATEGORIES:Christmas,crafts,Discover Frome,Fundraiser,Sustainability
ATTACH;FMTTYPE=image/jpeg:https://archive.discoverfrome.co.uk/wp-content/uploads/2023/11/Stick-Christmas-Tree.jpg
END:VEVENT
END:VCALENDAR