BEGIN:VCALENDAR
VERSION:2.0
PRODID:-//Discover Frome - ECPv4.6.26//NONSGML v1.0//EN
CALSCALE:GREGORIAN
METHOD:PUBLISH
X-WR-CALNAME:Discover Frome
X-ORIGINAL-URL:https://archive.discoverfrome.co.uk
X-WR-CALDESC:Events for Discover Frome
BEGIN:VEVENT
DTSTART;TZID=Europe/London:20240530T180000
DTEND;TZID=Europe/London:20240530T210000
DTSTAMP:20260419T135422
CREATED:20240426T112313Z
LAST-MODIFIED:20240426T112524Z
UID:68914-1717092000-1717102800@archive.discoverfrome.co.uk
SUMMARY:Stitching Taster Session
DESCRIPTION:Discover textiles techniques\, including Appliqué\, Embroidery & Fabric Painting to create your own unique design. 1 of 3 in a workshop series.\nThu\, 30 May 2024 \n 18:00 – 21:00 BST \nAt the Edventure Hub\, Frome \nBooking available here: linktr.ee/makeshedfrome  \n—- \nJoin us at Make:Shed for our Stitching Taster Session – the first of three workshops\, to begin a collaborative stitched art work which we’ll work on over the coming weeks. \nIn this first session we’ll be concentrating on learning some simple textiles techniques. You’ll be guided through Applique\, Embroidery and Fabric Painting processes in preparation for creating your own unique textile design in the next session. \nNo previous experience necessary\, all tools and materials will be provided. Whether you’re a complete beginner or looking to brush up on your skills\, this session is perfect for all levels. \nThis workshop is the first of three in our Community Art Creation series –you’ll get the most from it if you come along to all 3 sessions.\n[This workshop] Stitching Taster Session – May 30\nLearn textiles techniques in preprepration for creating your own unique design \nIndividual Patch Making – June 6\nDesign and create patches which will combine to form a shared art work. Learn methods for joining patchwork pieces\, and the context of patchwork. \nGroup Construction – June 20\nComplete your individual textile sample\, and explore how to bring our individual pieces together to create a shared art work. We’ll discuss methods for joining fabric pieces as well as learning about the context of patchwork. \nWhat is MakeShed? 🌟\nMake:Shed is a weekly workshop & community for young adults (18-35-ish) in Frome and surrounding areas. It’s a safe\, welcoming space to be yourself\, connect with others and express your creativity. We run workshops every Thursday\, 6-9pm at the Edventure Hub\, Frome. \nWhatever creativity sparks your joy\, you’ll find a place to express yourself at make:shed. \nTutor: Cassie Morris \nCassie is Programme Lead for Make:Shed. She joined Edventure after taking part in the Edventure Start-Up course in 2019. She is passionate about re-using\, reimagining and upcycling items that could otherwise be heading for landfill; making instead of buying\, as well as bringing people together to inspire creativity\, share skills\, build confidence and improve wellbeing. \nTutor: Amala Finch \nAmala is an Artist Educator based in Frome\, Somerset. Amala teaches across a range of disciplines including experimental drawing\, printmaking & textiles. She runs Tabula Rasa – a small teaching studio offering 1:1 tutoring supporting teenagers\, adults and home educators with their creative practice. \nAmala is passionate about lifelong and community learning and has worked with Edventure since 2019. \nBooking available here: linktr.ee/makeshedfrome  \n
URL:https://archive.discoverfrome.co.uk/event/stitching-taster-session/
LOCATION:Edventure: Frome\, The Welsh Mill Hub\, Frome\, England\, BA11 2LE
ATTACH;FMTTYPE=image/jpeg:https://archive.discoverfrome.co.uk/wp-content/uploads/2024/04/https___cdn.evbuc_.com_images_741107989_144193008718_1_original.jpeg
ORGANIZER;CN="MAKE%20SHED%3A%20Frome":MAILTO:shed@edventurefrome.org
END:VEVENT
END:VCALENDAR