BEGIN:VCALENDAR
VERSION:2.0
PRODID:-//Discover Frome - ECPv4.6.26//NONSGML v1.0//EN
CALSCALE:GREGORIAN
METHOD:PUBLISH
X-WR-CALNAME:Discover Frome
X-ORIGINAL-URL:https://archive.discoverfrome.co.uk
X-WR-CALDESC:Events for Discover Frome
BEGIN:VEVENT
DTSTART;TZID=Europe/London:20240413T150000
DTEND;TZID=Europe/London:20240413T170000
DTSTAMP:20260421T155930
CREATED:20240125T151741Z
LAST-MODIFIED:20240125T155450Z
UID:67214-1713020400-1713027600@archive.discoverfrome.co.uk
SUMMARY:Stolen Moments - The spiritual music of Abdullah Ibrahim
DESCRIPTION:John Martin (sax) joins pianist Keith Harrison-Broninski to play the spiritual music of Abdullah Ibrahim plus other township classics and originals \nFor the 13 April 2024 event in Frome Jazz Club’s concert series “Stolen Moments”\, Keith Harrison-Broninski (piano) is joined by John Martin (sax) to play the spiritual music of Abdullah Ibrahim plus other township classics and originals. \nDo you ever feel that even your weekends are too busy and demanding? That you need time out\, just to relax? Stolen Moments is a new kind of jazz event. A late Saturday afternoon interlude in the liminal space between day and evening. True down time\, in a beautiful church\, to do nothing but enjoy exquisite modern jazz and delicious cakes. \nTickets are not necessary and entry is free. Just come along to Christ Church\, Frome from 3-5pm . The concerts are informal occasions and you are welcome to drop in and out. Refreshments are available as well as cushions for the pews! \nGenerally\, if you would like to stay up to date with Frome Jazz Club events including the “Stolen Moments” concert series\, visit bit.ly/fjc-email where you can join the emailing list. \n
URL:https://archive.discoverfrome.co.uk/event/stolen-moments-the-spiritual-music-of-abdullah-ibrahim/
LOCATION:Christ Church\, Christchurch Street West\, Frome\, BA11 1EH
GEO:51.2292735;-2.3282901
X-APPLE-STRUCTURED-LOCATION;VALUE=URI;X-ADDRESS=Christ Church Christchurch Street West Frome BA11 1EH;X-APPLE-RADIUS=500;X-TITLE=Christchurch Street West:geo:-2.3282901,51.2292735
CATEGORIES:Live Band,Music
ATTACH;FMTTYPE=image/jpeg:https://archive.discoverfrome.co.uk/wp-content/uploads/2024/01/John-Martin.jpg
ORGANIZER;CN="Frome%20Jazz%20Club":MAILTO:keith.harrisonbroninski@gmail.com
END:VEVENT
END:VCALENDAR