BEGIN:VCALENDAR
VERSION:2.0
PRODID:-//Discover Frome - ECPv4.6.26//NONSGML v1.0//EN
CALSCALE:GREGORIAN
METHOD:PUBLISH
X-WR-CALNAME:Discover Frome
X-ORIGINAL-URL:https://archive.discoverfrome.co.uk
X-WR-CALDESC:Events for Discover Frome
BEGIN:VEVENT
DTSTART;TZID=Europe/London:20230716T100000
DTEND;TZID=Europe/London:20230716T150000
DTSTAMP:20260422T081329
CREATED:20230609T152256Z
LAST-MODIFIED:20230609T152256Z
UID:61356-1689501600-1689519600@archive.discoverfrome.co.uk
SUMMARY:SUMMER ART CAR BOOT
DESCRIPTION:The legendary creative highlight for the last day of the Festival. Artists\, craftspeople and designer-makers will be selling their work directly to the public at the 16th annual Summer Art Car Boot Sale in the Old Cattle Market car park. A fantastic chance to show your support for artists & makers who’ve had exceptionally challenging times recently. Meet the makers\, buy affordable art without commission and support local creatives for a good cause – the event will raise valuable funds for Black Swan Arts\, Frome’s community arts centre. \n
URL:https://archive.discoverfrome.co.uk/event/summer-art-car-boot-3/
LOCATION:Cheese and Grain Car Park\, Market Yard\, Frome\, BA111BE
GEO:51.2313518;-2.3213087
X-APPLE-STRUCTURED-LOCATION;VALUE=URI;X-ADDRESS=Cheese and Grain Car Park Market Yard Frome BA111BE;X-APPLE-RADIUS=500;X-TITLE=Market Yard:geo:-2.3213087,51.2313518
CATEGORIES:Arts,Discover Frome,Frome Festival
ATTACH;FMTTYPE=image/webp:https://archive.discoverfrome.co.uk/wp-content/uploads/2023/06/Art-Car-Boot-Sale-Small-e1679323813531.jpg.webp
ORGANIZER;CN="Frome%20Festival":MAILTO:office@fromefestival.co.uk
END:VEVENT
END:VCALENDAR