BEGIN:VCALENDAR
VERSION:2.0
PRODID:-//Discover Frome - ECPv4.6.26//NONSGML v1.0//EN
CALSCALE:GREGORIAN
METHOD:PUBLISH
X-WR-CALNAME:Discover Frome
X-ORIGINAL-URL:https://archive.discoverfrome.co.uk
X-WR-CALDESC:Events for Discover Frome
BEGIN:VEVENT
DTSTART;TZID=Europe/London:20240714T100000
DTEND;TZID=Europe/London:20240714T150000
DTSTAMP:20260419T215911
CREATED:20240620T095626Z
LAST-MODIFIED:20240620T095626Z
UID:70599-1720951200-1720969200@archive.discoverfrome.co.uk
SUMMARY:SUMMER ART CAR BOOT
DESCRIPTION:Artists\, craftspeople and designer-makers will be selling their work directly to the public at the Summer Art Car Boot\, organised by Black Swan Arts\, Frome’s community arts centre. Meet the makers\, buy affordable art without commission and support local creatives! \n
URL:https://archive.discoverfrome.co.uk/event/summer-art-car-boot-4/
LOCATION:Cattle Market Car Park\, Bridge Street Somerset Frome\, BA11 1BE
GEO:51.2323461;-2.3198961
X-APPLE-STRUCTURED-LOCATION;VALUE=URI;X-ADDRESS=Cattle Market Car Park Bridge Street Somerset Frome BA11 1BE;X-APPLE-RADIUS=500;X-TITLE=Bridge Street Somerset Frome:geo:-2.3198961,51.2323461
CATEGORIES:Arts,Discover Frome,Frome Festival,Market
ATTACH;FMTTYPE=image/jpeg:https://archive.discoverfrome.co.uk/wp-content/uploads/2024/06/Summer-Art.jpg
ORGANIZER;CN="Frome%20Festival":MAILTO:office@fromefestival.co.uk
END:VEVENT
END:VCALENDAR