BEGIN:VCALENDAR
VERSION:2.0
PRODID:-//Discover Frome - ECPv4.6.26//NONSGML v1.0//EN
CALSCALE:GREGORIAN
METHOD:PUBLISH
X-WR-CALNAME:Discover Frome
X-ORIGINAL-URL:https://archive.discoverfrome.co.uk
X-WR-CALDESC:Events for Discover Frome
BEGIN:VEVENT
DTSTART;TZID=Europe/London:20230611T130000
DTEND;TZID=Europe/London:20230611T150000
DTSTAMP:20260421T113153
CREATED:20230428T095229Z
LAST-MODIFIED:20230428T095558Z
UID:59669-1686488400-1686495600@archive.discoverfrome.co.uk
SUMMARY:Sustainable Witham Family Bike Event
DESCRIPTION:Enjoy and explore all things bike including bike health checks and maintenance demos\, bike jumble\, competitions and pimp your bike with up/recycled materials. \nPlus\, cakes\, refreshments and a raffle. \nFree event\, any donations to Sustainable Witham. \nOrganised by Sustainable Witham – see facebook page for more information\, part of National Cycling Week. \nPart of Great Big Green Week 2023. \n
URL:https://archive.discoverfrome.co.uk/event/sustainable-witham-family-bike-event/
LOCATION:Witham Friary Recreational Ground & Pump Track\, Witham Friary
CATEGORIES:Children,Community,Discover Frome,Family,Great Big Green Week,Health & Wellbeing
ATTACH;FMTTYPE=image/jpeg:https://archive.discoverfrome.co.uk/wp-content/uploads/2020/07/bicycles-6895_1920.jpg
END:VEVENT
END:VCALENDAR