BEGIN:VCALENDAR
VERSION:2.0
PRODID:-//Discover Frome - ECPv4.6.26//NONSGML v1.0//EN
CALSCALE:GREGORIAN
METHOD:PUBLISH
X-WR-CALNAME:Discover Frome
X-ORIGINAL-URL:https://archive.discoverfrome.co.uk
X-WR-CALDESC:Events for Discover Frome
BEGIN:VEVENT
DTSTART;TZID=Europe/London:20250710T200000
DTEND;TZID=Europe/London:20250710T210000
DTSTAMP:20260421T060621
CREATED:20250528T085413Z
LAST-MODIFIED:20250528T085413Z
UID:80489-1752177600-1752181200@archive.discoverfrome.co.uk
SUMMARY:Tales From The Grimm Reaper
DESCRIPTION:A site-specific script in hand performance of a selection of The Brothers Grimm Stories. Can you cheat death? Is Red Riding Hood as sweet as we think? How does a father choose a worthy heir? Adult folk tales – not the versions we tell the children! \n
URL:https://archive.discoverfrome.co.uk/event/tales-from-the-grimm-reaper/
LOCATION:Frome Dissenters’ Cemetery\, 20 Vallis Road\, Frome\, BA11 3EH\, United Kingdom
CATEGORIES:Arts,Discover Frome,Frome Festival,Spoken word,Theatre
ATTACH;FMTTYPE=image/jpeg:https://archive.discoverfrome.co.uk/wp-content/uploads/2025/05/grimm-reaper.jpg
ORGANIZER;CN="Frome%20Festival":MAILTO:office@fromefestival.co.uk
END:VEVENT
END:VCALENDAR