BEGIN:VCALENDAR
VERSION:2.0
PRODID:-//Discover Frome - ECPv4.6.26//NONSGML v1.0//EN
CALSCALE:GREGORIAN
METHOD:PUBLISH
X-WR-CALNAME:Discover Frome
X-ORIGINAL-URL:https://archive.discoverfrome.co.uk
X-WR-CALDESC:Events for Discover Frome
BEGIN:VEVENT
DTSTART;TZID=Europe/London:20240413T193000
DTEND;TZID=Europe/London:20240413T223000
DTSTAMP:20260421T123550
CREATED:20231019T145005Z
LAST-MODIFIED:20231019T145005Z
UID:63115-1713036600-1713047400@archive.discoverfrome.co.uk
SUMMARY:That'll Be The Day
DESCRIPTION:That’ll Be The Day is back on the road with another incredible show packed full of world class performances from Trevor and the highly talented ensemble cast. \nLet the world’s leading Rock ’n‘ Roll show take you on a journey through the years\, as together you celebrate the most iconic moments in Comedy\, Rock ’n’ Roll and Pop Culture from the 50s right the way through to the 80s. \nCombining uproarious comedy sketches and impersonations with breathtaking vocals and dazzling musicianship\, That’ll Be The Day truly is in a league of its own. It’s no wonder this show has been touring solidly for over 35 years and it just gets better and better! Join Trevor and the stellar cast for the ultimate feel-good experience that will have you singing and dancing\, and leave you wanting just a little bit more! \nIf you only see one theatre show this year\, make it this one. \n
URL:https://archive.discoverfrome.co.uk/event/thatll-be-the-day-4/
LOCATION:Frome Memorial Theatre\, Christchurch Street West\, Frome\, BA11 1EB
GEO:51.2291809;-2.3240101
X-APPLE-STRUCTURED-LOCATION;VALUE=URI;X-ADDRESS=Frome Memorial Theatre Christchurch Street West Frome BA11 1EB;X-APPLE-RADIUS=500;X-TITLE=Christchurch Street West:geo:-2.3240101,51.2291809
CATEGORIES:Comedy,Concert,Discover Frome,Music,Theatre
ATTACH;FMTTYPE=image/jpeg:https://archive.discoverfrome.co.uk/wp-content/uploads/2023/10/QfwrXOZQ.jpeg
END:VEVENT
END:VCALENDAR