BEGIN:VCALENDAR
VERSION:2.0
PRODID:-//Discover Frome - ECPv4.6.26//NONSGML v1.0//EN
CALSCALE:GREGORIAN
METHOD:PUBLISH
X-WR-CALNAME:Discover Frome
X-ORIGINAL-URL:https://archive.discoverfrome.co.uk
X-WR-CALDESC:Events for Discover Frome
BEGIN:VEVENT
DTSTART;TZID=Europe/London:20240925T190000
DTEND;TZID=Europe/London:20240925T210000
DTSTAMP:20260420T050713
CREATED:20240717T093623Z
LAST-MODIFIED:20240717T102036Z
UID:71165-1727290800-1727298000@archive.discoverfrome.co.uk
SUMMARY:The Art of Conversation - are we losing it?
DESCRIPTION:Is social media changing the way we interact? Are we ‘zoomed out’ by endless virtual meetings? Brian Snellgrove\, writer\, diarist and social innovator will lead a conversation followed by audience participation. \nTake this chance to have your say about your experiences of Frome both positive and negative. \nBuy ticket from the website. \n
URL:https://archive.discoverfrome.co.uk/event/the-art-of-conversation-are-we-losing-it/
LOCATION:Rook Lane Chapel\, Rook Lane\, Bath Street\, Frome\, BA11 1DN
GEO:51.2292873;-2.3227339
X-APPLE-STRUCTURED-LOCATION;VALUE=URI;X-ADDRESS=Rook Lane Chapel Rook Lane Bath Street Frome BA11 1DN;X-APPLE-RADIUS=500;X-TITLE=Rook Lane\, Bath Street:geo:-2.3227339,51.2292873
CATEGORIES:Discover Frome
ATTACH;FMTTYPE=image/jpeg:https://archive.discoverfrome.co.uk/wp-content/uploads/2024/07/Rook-Lane-Chapel.jpg
END:VEVENT
END:VCALENDAR