BEGIN:VCALENDAR
VERSION:2.0
PRODID:-//Discover Frome - ECPv4.6.26//NONSGML v1.0//EN
CALSCALE:GREGORIAN
METHOD:PUBLISH
X-WR-CALNAME:Discover Frome
X-ORIGINAL-URL:https://archive.discoverfrome.co.uk
X-WR-CALDESC:Events for Discover Frome
BEGIN:VEVENT
DTSTART;TZID=Europe/London:20240608T150000
DTEND;TZID=Europe/London:20240608T170000
DTSTAMP:20260419T134127
CREATED:20240125T154831Z
LAST-MODIFIED:20240125T155350Z
UID:67220-1717858800-1717866000@archive.discoverfrome.co.uk
SUMMARY:Stolen Moments - The astonishing modern tangos of Astor Piazzolla
DESCRIPTION:Mirek Salmon (bandoneon) joins pianist Keith Harrison-Broninski to play the astonishing modern tangos of Astor Piazzolla plus other tango classics and originals\n\nFor the 8 June 2024 event in Frome Jazz Club’s concert series “Stolen Moments”\, Keith Harrison-Broninski (piano) is joined by Mirek Salmon (bandoneon) to play the astonishing modern tangos of Astor Piazzolla plus other tango classics and originals.\n\nDo you ever feel that even your weekends are too busy and demanding? That you need time out\, just to relax? Stolen Moments is a new kind of jazz event. A late Saturday afternoon interlude in the liminal space between day and evening. True down time\, in a beautiful church\, to do nothing but enjoy exquisite modern jazz and delicious cakes.\n\nTickets are not necessary and entry is free. Just come along to Christ Church\, Frome from 3-5pm . The concerts are informal occasions and you are welcome to drop in and out. Refreshments are available as well as cushions for the pews!\n\nGenerally\, if you would like to stay up to date with Frome Jazz Club events including the “Stolen Moments” concert series\, visit bit.ly/fjc-email where you can join the emailing list.\n
URL:https://archive.discoverfrome.co.uk/event/the-astonishing-modern-tangos-of-astor-piazzolla/
LOCATION:Christ Church\, Christchurch Street West\, Frome\, BA11 1EH
GEO:51.2292735;-2.3282901
X-APPLE-STRUCTURED-LOCATION;VALUE=URI;X-ADDRESS=Christ Church Christchurch Street West Frome BA11 1EH;X-APPLE-RADIUS=500;X-TITLE=Christchurch Street West:geo:-2.3282901,51.2292735
CATEGORIES:Live Band,Music
ATTACH;FMTTYPE=image/jpeg:https://archive.discoverfrome.co.uk/wp-content/uploads/2024/01/Mirek-Salmon.jpg
ORGANIZER;CN="Frome%20Jazz%20Club":MAILTO:keith.harrisonbroninski@gmail.com
END:VEVENT
END:VCALENDAR