BEGIN:VCALENDAR
VERSION:2.0
PRODID:-//Discover Frome - ECPv4.6.26//NONSGML v1.0//EN
CALSCALE:GREGORIAN
METHOD:PUBLISH
X-WR-CALNAME:Discover Frome
X-ORIGINAL-URL:https://archive.discoverfrome.co.uk
X-WR-CALDESC:Events for Discover Frome
BEGIN:VEVENT
DTSTART;TZID=Europe/London:20240921T100000
DTEND;TZID=Europe/London:20240921T130000
DTSTAMP:20260421T142527
CREATED:20240813T165106Z
LAST-MODIFIED:20240813T165106Z
UID:71537-1726912800-1726923600@archive.discoverfrome.co.uk
SUMMARY:The Big Clothes Swap
DESCRIPTION:\nWe are very excited to be hosting our next Big Clothes Swap on Saturday 21st September from 10am to 1pm.\n\n\nHow does it work? All you have to do to revamp your wardrobe is come on down with as many items of clothing as you wish in exchange for tokens. For example 5 items = 5 tokens. You can either bring down your items in the week leading up to the Big Swap (time slots tbc) or when you get to the event itself.\n\n\n\nIf you bring your items in advance entry will be cheaper. Tokens can then be exchanged for items of clothes at the event.\n\n
URL:https://archive.discoverfrome.co.uk/event/the-big-clothes-swap-3/
LOCATION:Cheese and Grain\, Market Yard\, Frome\, BA11 1BE
GEO:51.2318708;-2.3202807
X-APPLE-STRUCTURED-LOCATION;VALUE=URI;X-ADDRESS=Cheese and Grain Market Yard Frome BA11 1BE;X-APPLE-RADIUS=500;X-TITLE=Market Yard:geo:-2.3202807,51.2318708
CATEGORIES:Clothing & Textiles,Discover Frome,Environment,Market,Pop Up Shop,Shopping
ATTACH;FMTTYPE=image/jpeg:https://archive.discoverfrome.co.uk/wp-content/uploads/2024/08/thumbnail_poster-with-email-for-insta-e1686758001321.jpg
END:VEVENT
END:VCALENDAR