BEGIN:VCALENDAR
VERSION:2.0
PRODID:-//Discover Frome - ECPv4.6.26//NONSGML v1.0//EN
CALSCALE:GREGORIAN
METHOD:PUBLISH
X-WR-CALNAME:Discover Frome
X-ORIGINAL-URL:https://archive.discoverfrome.co.uk
X-WR-CALDESC:Events for Discover Frome
BEGIN:VEVENT
DTSTART;TZID=Europe/London:20250611T190000
DTEND;TZID=Europe/London:20250611T210000
DTSTAMP:20260421T142542
CREATED:20250506T140712Z
LAST-MODIFIED:20250506T140712Z
UID:79716-1749668400-1749675600@archive.discoverfrome.co.uk
SUMMARY:The Big Green Clothes Swap
DESCRIPTION:The annual Big Green Clothes Swap is back to refresh your wardrobe. Find preloved treasures among piles of possibilities.\n\nBring as many (or as few) unwanted items as you like\, and take home as many gems as you can find. Out with the old and in with the brand new second hand!\n\nAll genders welcome.\n£3 entry (cash only)\n\nPart of Great Big Green Week 2025\n
URL:https://archive.discoverfrome.co.uk/event/the-big-green-clothes-swap/
LOCATION:The Silk Mill\, Merchants Barton\, Frome\, BA11 1PT\, United Kingdom
GEO:51.230751;-2.320096
X-APPLE-STRUCTURED-LOCATION;VALUE=URI;X-ADDRESS=The Silk Mill Merchants Barton Frome BA11 1PT United Kingdom;X-APPLE-RADIUS=500;X-TITLE=Merchants Barton:geo:-2.320096,51.230751
CATEGORIES:Clothing & Textiles,Discover Frome,Environment,Great Big Green Week,Shopping,Sustainability
ATTACH;FMTTYPE=image/jpeg:https://archive.discoverfrome.co.uk/wp-content/uploads/2023/05/Clothes-swap-2.jpg
ORGANIZER;CN="Frome%20Wardrobe%20Collective":MAILTO:fromewardrobecollective@gmail.com
END:VEVENT
END:VCALENDAR