BEGIN:VCALENDAR
VERSION:2.0
PRODID:-//Discover Frome - ECPv4.6.26//NONSGML v1.0//EN
CALSCALE:GREGORIAN
METHOD:PUBLISH
X-WR-CALNAME:Discover Frome
X-ORIGINAL-URL:https://archive.discoverfrome.co.uk
X-WR-CALDESC:Events for Discover Frome
BEGIN:VEVENT
DTSTART;TZID=Europe/London:20240712T210000
DTEND;TZID=Europe/London:20240712T230000
DTSTAMP:20260419T131058
CREATED:20240618T135907Z
LAST-MODIFIED:20240618T135907Z
UID:70560-1720818000-1720825200@archive.discoverfrome.co.uk
SUMMARY:THE CLEYHILL STOMPERS
DESCRIPTION:Join Steve McStevie and the Cleyhill Stompers for a night of proper West Country Rock ’n’ Roll. \n
URL:https://archive.discoverfrome.co.uk/event/the-cleyhill-stompers/
LOCATION:The Sun Inn\, 6 Catherine Street\, BA11 1DA
GEO:51.2311111;-2.325591
X-APPLE-STRUCTURED-LOCATION;VALUE=URI;X-ADDRESS=The Sun Inn 6 Catherine Street BA11 1DA;X-APPLE-RADIUS=500;X-TITLE=6 Catherine Street:geo:-2.325591,51.2311111
CATEGORIES:Discover Frome,Frome Festival,Music
ATTACH;FMTTYPE=image/jpeg:https://archive.discoverfrome.co.uk/wp-content/uploads/2024/06/IMG_2410.jpeg
ORGANIZER;CN="Kate%20Levi":MAILTO:Katelevi@outlook.com
END:VEVENT
END:VCALENDAR